BEGIN:VCALENDAR
VERSION:2.0
PRODID:-//calparents.org//NONSGML kigkonsult.se iCalcreator 2.30.10//
CALSCALE:GREGORIAN
METHOD:PUBLISH
UID:9633ae14-f38d-42da-bf21-f9bae85f10d0
X-WR-CALDESC:<b>Capacitación De La Familia De Recursos:</b> todas las clase
 s son gratis\n\n<b>Módulo 5:</b> tipos de trauma infantil\, ciclo de respu
 esta al estrés traumático\, comprensión de desencadenantes del trauma y el
  impacto de la exposición al trauma.\n\n<b>Al registrarse\, utilice la inf
 ormación de contacto única de cada participante. Esta información se utili
 za para verificar la asistencia de cada inscripto.</b>
X-WR-RELCALID:7768d8f707c853de6ef89903beba8bfe
X-WR-TIMEZONE:America/Los_Angeles
BEGIN:VTIMEZONE
TZID:America/Los_Angeles
BEGIN:STANDARD
TZNAME:PST
DTSTART:20211107T020000
TZOFFSETFROM:-0700
TZOFFSETTO:-0800
RDATE:20221106T020000
END:STANDARD
BEGIN:DAYLIGHT
TZNAME:PDT
DTSTART:20220313T020000
TZOFFSETFROM:-0800
TZOFFSETTO:-0700
RDATE:20230312T020000
END:DAYLIGHT
END:VTIMEZONE
BEGIN:VEVENT
UID:a042a8a9-d5e5-4342-81fb-de2e14cb3589
DTSTAMP:20260422T183356Z
DESCRIPTION:<b>Capacitación De La Familia De Recursos:</b> todas las clases
  son gratis\n\n<b>Módulo 5:</b> tipos de trauma infantil\, ciclo de respue
 sta al estrés traumático\, comprensión de desencadenantes del trauma y el 
 impacto de la exposición al trauma.\n\n<b>Al registrarse\, utilice la info
 rmación de contacto única de cada participante. Esta información se utiliz
 a para verificar la asistencia de cada inscripto.</b>
DTSTART;TZID=America/Los_Angeles:20220321T173000
DTEND;TZID=America/Los_Angeles:20220321T203000
LOCATION:Entrenamiento virtual
SUMMARY:Módulos 5 En Línea
END:VEVENT
END:VCALENDAR
