BEGIN:VCALENDAR
VERSION:2.0
PRODID:-//calparents.org//NONSGML kigkonsult.se iCalcreator 2.30.10//
CALSCALE:GREGORIAN
METHOD:PUBLISH
UID:78a9d01c-957e-4943-a109-d69efd7c6035
X-WR-CALDESC:<b>Module 4 Course Objectives:</b> supervised visitations\, bo
 undaries\, punishment vs discipline\, managing emotional and behavioral ne
 eds\, and psychotropic medication.\n\n<b>When registering\, please use the
  unique contact information for each participant. This information is used
  to verify each registrants attendance.</b>
X-WR-RELCALID:634a9872950672d4dc18c0f0536cb42b
X-WR-TIMEZONE:America/Los_Angeles
BEGIN:VTIMEZONE
TZID:America/Los_Angeles
BEGIN:STANDARD
TZNAME:PST
DTSTART:20211107T020000
TZOFFSETFROM:-0700
TZOFFSETTO:-0800
RDATE:20221106T020000
END:STANDARD
BEGIN:DAYLIGHT
TZNAME:PDT
DTSTART:20220313T020000
TZOFFSETFROM:-0800
TZOFFSETTO:-0700
RDATE:20230312T020000
END:DAYLIGHT
END:VTIMEZONE
BEGIN:VEVENT
UID:49b627d1-51cb-48d1-a051-cf93d195faf3
DTSTAMP:20260422T190519Z
DESCRIPTION:<b>Module 4 Course Objectives:</b> supervised visitations\, bou
 ndaries\, punishment vs discipline\, managing emotional and behavioral nee
 ds\, and psychotropic medication.\n\n<b>When registering\, please use the 
 unique contact information for each participant. This information is used 
 to verify each registrants attendance.</b>
DTSTART;TZID=America/Los_Angeles:20220317T173000
DTEND;TZID=America/Los_Angeles:20220317T203000
LOCATION:Virtual Training
SUMMARY:Module 4 Online
END:VEVENT
END:VCALENDAR
