BEGIN:VCALENDAR
VERSION:2.0
PRODID:-//calparents.org//NONSGML kigkonsult.se iCalcreator 2.30.10//
CALSCALE:GREGORIAN
METHOD:PUBLISH
UID:2985012a-60cb-442a-ba01-a5e1a68e8346
X-WR-CALDESC:<b>Module 1 Course Objectives:</b> resource family approval\, 
 child welfare services\, safety\, permanency and well-being\, and concurre
 nt planning.\n\n<b>When registering\, please use the unique contact inform
 ation for each participant. This information is used to verify each regist
 rants attendance.</b>
X-WR-RELCALID:f6b515a6228c8ba4df016f9049ff86da
X-WR-TIMEZONE:America/Los_Angeles
BEGIN:VTIMEZONE
TZID:America/Los_Angeles
BEGIN:STANDARD
TZNAME:PST
DTSTART:20211107T020000
TZOFFSETFROM:-0700
TZOFFSETTO:-0800
RDATE:20221106T020000
END:STANDARD
BEGIN:DAYLIGHT
TZNAME:PDT
DTSTART:20210314T020000
TZOFFSETFROM:-0800
TZOFFSETTO:-0700
RDATE:20220313T020000
RDATE:20230312T020000
END:DAYLIGHT
END:VTIMEZONE
BEGIN:VEVENT
UID:43ff9bc8-c889-446f-8cc1-6b1585018c40
DTSTAMP:20260424T100947Z
DESCRIPTION:<b>Module 1 Course Objectives:</b> resource family approval\, c
 hild welfare services\, safety\, permanency and well-being\, and concurren
 t planning.\n\n<b>When registering\, please use the unique contact informa
 tion for each participant. This information is used to verify each registr
 ants attendance.</b>
DTSTART;TZID=America/Los_Angeles:20220111T170000
DTEND;TZID=America/Los_Angeles:20220111T200000
LOCATION:Virtual Training
SUMMARY:Module 1 Online
END:VEVENT
END:VCALENDAR
