BEGIN:VCALENDAR
VERSION:2.0
PRODID:-//calparents.org//NONSGML kigkonsult.se iCalcreator 2.30.10//
CALSCALE:GREGORIAN
METHOD:PUBLISH
UID:5099f9d4-5cd0-4e4f-b374-65fc54d6948a
X-WR-CALDESC:<b>Module 4 Course Objectives:</b> supervised visitations\, bo
 undaries\, punishment vs discipline\, managing emotional and behavioral ne
 eds\, and psychotropic medication.\n\n<b>When registering\, please use the
  unique contact information for each participant. This information is used
  to verify each registrants attendance.</b>
X-WR-RELCALID:f946497409e320401841e7d5132926ec
X-WR-TIMEZONE:America/Los_Angeles
BEGIN:VTIMEZONE
TZID:America/Los_Angeles
BEGIN:STANDARD
TZNAME:PST
DTSTART:20211107T020000
TZOFFSETFROM:-0700
TZOFFSETTO:-0800
RDATE:20221106T020000
END:STANDARD
BEGIN:DAYLIGHT
TZNAME:PDT
DTSTART:20210314T020000
TZOFFSETFROM:-0800
TZOFFSETTO:-0700
RDATE:20220313T020000
RDATE:20230312T020000
END:DAYLIGHT
END:VTIMEZONE
BEGIN:VEVENT
UID:d98f4397-26f2-4805-92bf-eaf7d66b1a13
DTSTAMP:20260422T225024Z
DESCRIPTION:<b>Module 4 Course Objectives:</b> supervised visitations\, bou
 ndaries\, punishment vs discipline\, managing emotional and behavioral nee
 ds\, and psychotropic medication.\n\n<b>When registering\, please use the 
 unique contact information for each participant. This information is used 
 to verify each registrants attendance.</b>
DTSTART;TZID=America/Los_Angeles:20211209T170000
DTEND;TZID=America/Los_Angeles:20211209T200000
LOCATION:Virtual Training
SUMMARY:Module 4 Online
END:VEVENT
END:VCALENDAR
