BEGIN:VCALENDAR
VERSION:2.0
PRODID:-//calparents.org//NONSGML kigkonsult.se iCalcreator 2.30.10//
CALSCALE:GREGORIAN
METHOD:PUBLISH
UID:5f618bc9-9beb-4d0d-8a02-f596ec8197aa
X-WR-CALDESC:<b>Module 2 Course Objectives:</b> the members of the professi
 onal team\, cultural humility\, personal rights\, prudent parent standard\
 , confidentiality\, and visitation.\n\n<b>When registering\, please use th
 e unique contact information for each participant. This information is use
 d to verify each registrants attendance.</b>
X-WR-RELCALID:b0926048417715860a0c9a3101fb79d1
X-WR-TIMEZONE:America/Los_Angeles
BEGIN:VTIMEZONE
TZID:America/Los_Angeles
BEGIN:STANDARD
TZNAME:PST
DTSTART:20211107T020000
TZOFFSETFROM:-0700
TZOFFSETTO:-0800
RDATE:20221106T020000
END:STANDARD
BEGIN:DAYLIGHT
TZNAME:PDT
DTSTART:20210314T020000
TZOFFSETFROM:-0800
TZOFFSETTO:-0700
RDATE:20220313T020000
RDATE:20230312T020000
END:DAYLIGHT
END:VTIMEZONE
BEGIN:VEVENT
UID:d5fa93f5-2b11-47ae-8dfa-e30507b25c6c
DTSTAMP:20260422T225119Z
DESCRIPTION:<b>Module 2 Course Objectives:</b> the members of the professio
 nal team\, cultural humility\, personal rights\, prudent parent standard\,
  confidentiality\, and visitation.\n\n<b>When registering\, please use the
  unique contact information for each participant. This information is used
  to verify each registrants attendance.</b>
DTSTART;TZID=America/Los_Angeles:20211202T170000
DTEND;TZID=America/Los_Angeles:20211202T200000
LOCATION:Virtual Training
SUMMARY:Module 2 Online
END:VEVENT
END:VCALENDAR
