BEGIN:VCALENDAR
VERSION:2.0
PRODID:-//calparents.org//NONSGML kigkonsult.se iCalcreator 2.30.10//
CALSCALE:GREGORIAN
METHOD:PUBLISH
UID:ed5d58f2-6391-4e16-b3e7-71f38157647b
X-WR-CALDESC:<b>Module 6 Course Objectives:</b> grief and loss\, transition
 s\, vicarious trauma\, and resiliency.\n\n\n<b>When registering\, please u
 se the unique contact information for each participant. This information i
 s used to verify each registrants attendance.</b>
X-WR-RELCALID:26b4edde5aa4dcfe341c1dd5e3b31e18
X-WR-TIMEZONE:America/Los_Angeles
BEGIN:VTIMEZONE
TZID:America/Los_Angeles
BEGIN:STANDARD
TZNAME:PST
DTSTART:20211107T020000
TZOFFSETFROM:-0700
TZOFFSETTO:-0800
RDATE:20221106T020000
END:STANDARD
BEGIN:DAYLIGHT
TZNAME:PDT
DTSTART:20210314T020000
TZOFFSETFROM:-0800
TZOFFSETTO:-0700
RDATE:20220313T020000
RDATE:20230312T020000
END:DAYLIGHT
END:VTIMEZONE
BEGIN:VEVENT
UID:f50c0da6-4d18-4c10-b6af-30602188afee
DTSTAMP:20260423T003100Z
DESCRIPTION:<b>Module 6 Course Objectives:</b> grief and loss\, transitions
 \, vicarious trauma\, and resiliency.\n\n\n<b>When registering\, please us
 e the unique contact information for each participant. This information is
  used to verify each registrants attendance.</b>
DTSTART;TZID=America/Los_Angeles:20211123T170000
DTEND;TZID=America/Los_Angeles:20211123T200000
LOCATION:Virtual Training
SUMMARY:Module 6 Online
END:VEVENT
END:VCALENDAR
