BEGIN:VCALENDAR
VERSION:2.0
PRODID:-//calparents.org//NONSGML kigkonsult.se iCalcreator 2.30.10//
CALSCALE:GREGORIAN
METHOD:PUBLISH
UID:444ba0de-1fbc-4cef-bda1-76e54380fdcd
X-WR-CALDESC:<b>Module 5 Course Objectives:</b> types of childhood trauma\,
  traumatic stress response cycle\, understanding trauma triggers\, and the
  impact of trauma exposure.\n\n\n<b>When registering\, please use the uniq
 ue contact information for each participant. This information is used to v
 erify each registrants attendance.</b>
X-WR-RELCALID:54a9e76609d77c771c169c2dab77047e
X-WR-TIMEZONE:America/Los_Angeles
BEGIN:VTIMEZONE
TZID:America/Los_Angeles
BEGIN:STANDARD
TZNAME:PST
DTSTART:20211107T020000
TZOFFSETFROM:-0700
TZOFFSETTO:-0800
RDATE:20221106T020000
END:STANDARD
BEGIN:DAYLIGHT
TZNAME:PDT
DTSTART:20210314T020000
TZOFFSETFROM:-0800
TZOFFSETTO:-0700
RDATE:20220313T020000
RDATE:20230312T020000
END:DAYLIGHT
END:VTIMEZONE
BEGIN:VEVENT
UID:4ae185b8-5575-406f-9ad1-02ddb6890793
DTSTAMP:20260423T003152Z
DESCRIPTION:<b>Module 5 Course Objectives:</b> types of childhood trauma\, 
 traumatic stress response cycle\, understanding trauma triggers\, and the 
 impact of trauma exposure.\n\n\n<b>When registering\, please use the uniqu
 e contact information for each participant. This information is used to ve
 rify each registrants attendance.</b>
DTSTART;TZID=America/Los_Angeles:20211118T170000
DTEND;TZID=America/Los_Angeles:20211118T200000
LOCATION:Virtual Training
SUMMARY:Module 5 Online
END:VEVENT
END:VCALENDAR
