BEGIN:VCALENDAR
VERSION:2.0
PRODID:-//calparents.org//NONSGML kigkonsult.se iCalcreator 2.30.10//
CALSCALE:GREGORIAN
METHOD:PUBLISH
UID:0dc97535-037f-401d-84fe-a819ed3567d4
X-WR-CALDESC:<b>Module 6 Course Objectives:</b> grief and loss\, transition
 s\, vicarious trauma\, and resiliency.\n\n<b>When registering\, please use
  the unique contact information for each participant. This information is 
 used to verify each registrants attendance.</b>
X-WR-RELCALID:40a7e3f8375c3ea318abefc8eb19f42e
X-WR-TIMEZONE:America/Los_Angeles
BEGIN:VTIMEZONE
TZID:America/Los_Angeles
BEGIN:STANDARD
TZNAME:PST
DTSTART:20211107T020000
TZOFFSETFROM:-0700
TZOFFSETTO:-0800
RDATE:20221106T020000
END:STANDARD
BEGIN:DAYLIGHT
TZNAME:PDT
DTSTART:20210314T020000
TZOFFSETFROM:-0800
TZOFFSETTO:-0700
RDATE:20220313T020000
RDATE:20230312T020000
END:DAYLIGHT
END:VTIMEZONE
BEGIN:VEVENT
UID:2eb8e6c9-abeb-4b57-b732-28ed788d67dd
DTSTAMP:20260423T003152Z
DESCRIPTION:<b>Module 6 Course Objectives:</b> grief and loss\, transitions
 \, vicarious trauma\, and resiliency.\n\n<b>When registering\, please use 
 the unique contact information for each participant. This information is u
 sed to verify each registrants attendance.</b>
DTSTART;TZID=America/Los_Angeles:20211106T090000
DTEND;TZID=America/Los_Angeles:20211106T110000
LOCATION:Virtual Training
SUMMARY:Module 6 Online
END:VEVENT
END:VCALENDAR
