BEGIN:VCALENDAR
VERSION:2.0
PRODID:-//calparents.org//NONSGML kigkonsult.se iCalcreator 2.30.10//
CALSCALE:GREGORIAN
METHOD:PUBLISH
UID:4df3d91c-3fe5-40bf-922b-f6337749bd75
X-WR-CALDESC:<b>Capacitación De La Familia De Recursos:</b> todas las clase
 s son gratis\n\n<b>Módulo 3:</b> dominios de desarrollo\, SOGIE\, Naturale
 sa contra Nutrir/Crianza\, apego y las necesidades de los niños y jóvenes 
 en hogares de recurso.\n\n<b>Al registrarse\, utilice la información de co
 ntacto única de cada participante. Esta información se utiliza para verifi
 car la asistencia de cada inscripto.</b>
X-WR-RELCALID:72c53d34c31bba7b3ca3250e6d5113e4
X-WR-TIMEZONE:America/Los_Angeles
BEGIN:VTIMEZONE
TZID:America/Los_Angeles
BEGIN:STANDARD
TZNAME:PST
DTSTART:20211107T020000
TZOFFSETFROM:-0700
TZOFFSETTO:-0800
RDATE:20221106T020000
END:STANDARD
BEGIN:DAYLIGHT
TZNAME:PDT
DTSTART:20210314T020000
TZOFFSETFROM:-0800
TZOFFSETTO:-0700
RDATE:20220313T020000
RDATE:20230312T020000
END:DAYLIGHT
END:VTIMEZONE
BEGIN:VEVENT
UID:d9770f57-918e-4da7-bae7-c0b3e64bf51d
DTSTAMP:20260423T004008Z
DESCRIPTION:<b>Capacitación De La Familia De Recursos:</b> todas las clases
  son gratis\n\n<b>Módulo 3:</b> dominios de desarrollo\, SOGIE\, Naturales
 a contra Nutrir/Crianza\, apego y las necesidades de los niños y jóvenes e
 n hogares de recurso.\n\n<b>Al registrarse\, utilice la información de con
 tacto única de cada participante. Esta información se utiliza para verific
 ar la asistencia de cada inscripto.</b>
DTSTART;TZID=America/Los_Angeles:20211105T170000
DTEND;TZID=America/Los_Angeles:20211105T200000
LOCATION:Entrenamiento virtual
SUMMARY:Módulo 3 En Línea
END:VEVENT
END:VCALENDAR
