BEGIN:VCALENDAR
VERSION:2.0
PRODID:-//calparents.org//NONSGML kigkonsult.se iCalcreator 2.30.10//
CALSCALE:GREGORIAN
METHOD:PUBLISH
UID:5ce3b914-5d6e-4509-9ac9-85e6eb7f5166
X-WR-CALDESC:<b>Module 1 Course Objectives:</b> resource family approval\, 
 child welfare services\, safety\, permanency and well-being\, and concurre
 nt planning.\n\n<b>When registering\, please use the unique contact inform
 ation for each participant. This information is used to verify each regist
 rants attendance.</b>
X-WR-RELCALID:e2015f4f6b4936e2c6d1f0bd8e1e07b6
X-WR-TIMEZONE:America/Los_Angeles
BEGIN:VTIMEZONE
TZID:America/Los_Angeles
BEGIN:STANDARD
TZNAME:PST
DTSTART:20211107T020000
TZOFFSETFROM:-0700
TZOFFSETTO:-0800
RDATE:20221106T020000
END:STANDARD
BEGIN:DAYLIGHT
TZNAME:PDT
DTSTART:20210314T020000
TZOFFSETFROM:-0800
TZOFFSETTO:-0700
RDATE:20220313T020000
RDATE:20230312T020000
END:DAYLIGHT
END:VTIMEZONE
BEGIN:VEVENT
UID:650aabf5-fee0-441b-b901-601937204a06
DTSTAMP:20260423T003146Z
DESCRIPTION:<b>Module 1 Course Objectives:</b> resource family approval\, c
 hild welfare services\, safety\, permanency and well-being\, and concurren
 t planning.\n\n<b>When registering\, please use the unique contact informa
 tion for each participant. This information is used to verify each registr
 ants attendance.</b>
DTSTART;TZID=America/Los_Angeles:20211102T170000
DTEND;TZID=America/Los_Angeles:20211102T200000
LOCATION:Virtual Training
SUMMARY:Module 1 Online
END:VEVENT
END:VCALENDAR
