BEGIN:VCALENDAR
VERSION:2.0
PRODID:-//calparents.org//NONSGML kigkonsult.se iCalcreator 2.30.10//
CALSCALE:GREGORIAN
METHOD:PUBLISH
UID:dd954324-da4d-4ac3-b63c-53205520f501
X-WR-CALDESC:<b>Capacitación De La Familia De Recursos:</b> todas las clase
 s son gratis\; cuidado de niños y comida ligera proporcionada\n<b>Módulo 1
 :</b> Aprobación familiar de recursos\, servicios de bienestar infantil\, 
 seguridad\, permanencia y bienestar\, y planificación concurrente.\n\n<b>A
 l registrarse\, utilice la información de contacto única de cada participa
 nte. Esta información se utiliza para verificar la asistencia de cada insc
 ripto.</b>
X-WR-RELCALID:4b667d1ad47e6340fdd1513a379078fb
X-WR-TIMEZONE:America/Los_Angeles
BEGIN:VTIMEZONE
TZID:America/Los_Angeles
BEGIN:STANDARD
TZNAME:PST
DTSTART:20201101T020000
TZOFFSETFROM:-0700
TZOFFSETTO:-0800
RDATE:20211107T020000
RDATE:20221106T020000
END:STANDARD
BEGIN:DAYLIGHT
TZNAME:PDT
DTSTART:20210314T020000
TZOFFSETFROM:-0800
TZOFFSETTO:-0700
RDATE:20220313T020000
RDATE:20230312T020000
END:DAYLIGHT
END:VTIMEZONE
BEGIN:VEVENT
UID:36c9d62a-3885-4428-b811-e5670ab4bfa3
DTSTAMP:20260423T003637Z
DESCRIPTION:<b>Capacitación De La Familia De Recursos:</b> todas las clases
  son gratis\; cuidado de niños y comida ligera proporcionada\n<b>Módulo 1:
 </b> Aprobación familiar de recursos\, servicios de bienestar infantil\, s
 eguridad\, permanencia y bienestar\, y planificación concurrente.\n\n<b>Al
  registrarse\, utilice la información de contacto única de cada participan
 te. Esta información se utiliza para verificar la asistencia de cada inscr
 ipto.</b>
DTSTART;TZID=America/Los_Angeles:20211101T170000
DTEND;TZID=America/Los_Angeles:20211101T200000
LOCATION:Entrenamiento virtual
SUMMARY:Módulo 1 En Línea
END:VEVENT
END:VCALENDAR
