BEGIN:VCALENDAR
VERSION:2.0
PRODID:-//calparents.org//NONSGML kigkonsult.se iCalcreator 2.30.10//
CALSCALE:GREGORIAN
METHOD:PUBLISH
UID:2bda7db1-3a6d-48b6-9ebb-0a1638fa8a0c
X-WR-CALDESC:<b>Module 3 Course Objectives:</b> developmental domains\, SOG
 IE\, Nature vs Nurture\, attachment\, and the needs of children and youth 
 in foster care.\n\n<b>When registering\, please use the unique contact inf
 ormation for each participant. This information is used to verify each reg
 istrants attendance.</b>
X-WR-RELCALID:fe0fafd463e8de0adacd07cc74eaef5c
X-WR-TIMEZONE:America/Los_Angeles
BEGIN:VTIMEZONE
TZID:America/Los_Angeles
BEGIN:STANDARD
TZNAME:PST
DTSTART:20201101T020000
TZOFFSETFROM:-0700
TZOFFSETTO:-0800
RDATE:20211107T020000
RDATE:20221106T020000
END:STANDARD
BEGIN:DAYLIGHT
TZNAME:PDT
DTSTART:20210314T020000
TZOFFSETFROM:-0800
TZOFFSETTO:-0700
RDATE:20220313T020000
RDATE:20230312T020000
END:DAYLIGHT
END:VTIMEZONE
BEGIN:VEVENT
UID:cc6b93c2-ca39-4836-b58c-56a6b4426fbf
DTSTAMP:20260423T020127Z
DESCRIPTION:<b>Module 3 Course Objectives:</b> developmental domains\, SOGI
 E\, Nature vs Nurture\, attachment\, and the needs of children and youth i
 n foster care.\n\n<b>When registering\, please use the unique contact info
 rmation for each participant. This information is used to verify each regi
 strants attendance.</b>
DTSTART;TZID=America/Los_Angeles:20211016T090000
DTEND;TZID=America/Los_Angeles:20211016T120000
LOCATION:Virtual Training
SUMMARY:Module 3 Online
END:VEVENT
END:VCALENDAR
