BEGIN:VCALENDAR
VERSION:2.0
PRODID:-//calparents.org//NONSGML kigkonsult.se iCalcreator 2.30.10//
CALSCALE:GREGORIAN
METHOD:PUBLISH
UID:d875383e-b9ec-449e-b978-291afdc82418
X-WR-CALDESC:<b>Module 2 Course Objectives:</b> the members of the professi
 onal team\, cultural humility\, personal rights\, prudent parent standard\
 , and confidentiality.\n\n<b>When registering\, please use the unique cont
 act information for each participant. This information is used to verify e
 ach registrants attendance.</b>
X-WR-RELCALID:ae506f1bdc1bf86518eb47c23a3759e0
X-WR-TIMEZONE:America/Los_Angeles
BEGIN:VTIMEZONE
TZID:America/Los_Angeles
BEGIN:STANDARD
TZNAME:PST
DTSTART:20201101T020000
TZOFFSETFROM:-0700
TZOFFSETTO:-0800
RDATE:20211107T020000
RDATE:20221106T020000
END:STANDARD
BEGIN:DAYLIGHT
TZNAME:PDT
DTSTART:20210314T020000
TZOFFSETFROM:-0800
TZOFFSETTO:-0700
RDATE:20220313T020000
RDATE:20230312T020000
END:DAYLIGHT
END:VTIMEZONE
BEGIN:VEVENT
UID:a0e6f1dc-9360-43c0-8d4a-cbd462b8b596
DTSTAMP:20260423T022917Z
DESCRIPTION:<b>Module 2 Course Objectives:</b> the members of the professio
 nal team\, cultural humility\, personal rights\, prudent parent standard\,
  and confidentiality.\n\n<b>When registering\, please use the unique conta
 ct information for each participant. This information is used to verify ea
 ch registrants attendance.</b>
DTSTART;TZID=America/Los_Angeles:20211009T090000
DTEND;TZID=America/Los_Angeles:20211009T120000
LOCATION:Virtual Training
SUMMARY:Module 2 Online
END:VEVENT
END:VCALENDAR
