BEGIN:VCALENDAR
VERSION:2.0
PRODID:-//calparents.org//NONSGML kigkonsult.se iCalcreator 2.30.10//
CALSCALE:GREGORIAN
METHOD:PUBLISH
UID:df724e26-be04-4b4a-a407-56777d91b527
X-WR-CALDESC:<b>Capacitación De La Familia De Recursos:</b> todas las clase
 s son gratis\n\n<b>Módulo 4:</b> límites\, castigo versus disciplina\, man
 ejo de las necesidades emocionales y de comportamiento y medicación psicot
 rópica.\n\n<b>Al registrarse\, utilice la información de contacto única de
  cada participante. Esta información se utiliza para verificar la asistenc
 ia de cada inscripto.</b>
X-WR-RELCALID:c2d05d679912fb4f160ab61c726607fd
X-WR-TIMEZONE:America/Los_Angeles
BEGIN:VTIMEZONE
TZID:America/Los_Angeles
BEGIN:STANDARD
TZNAME:PST
DTSTART:20201101T020000
TZOFFSETFROM:-0700
TZOFFSETTO:-0800
RDATE:20211107T020000
RDATE:20221106T020000
END:STANDARD
BEGIN:DAYLIGHT
TZNAME:PDT
DTSTART:20210314T020000
TZOFFSETFROM:-0800
TZOFFSETTO:-0700
RDATE:20220313T020000
RDATE:20230312T020000
END:DAYLIGHT
END:VTIMEZONE
BEGIN:VEVENT
UID:599035ec-f464-4cd4-beef-e62e591e4712
DTSTAMP:20260423T031659Z
DESCRIPTION:<b>Capacitación De La Familia De Recursos:</b> todas las clases
  son gratis\n\n<b>Módulo 4:</b> límites\, castigo versus disciplina\, mane
 jo de las necesidades emocionales y de comportamiento y medicación psicotr
 ópica.\n\n<b>Al registrarse\, utilice la información de contacto única de 
 cada participante. Esta información se utiliza para verificar la asistenci
 a de cada inscripto.</b>
DTSTART;TZID=America/Los_Angeles:20210920T170000
DTEND;TZID=America/Los_Angeles:20210920T200000
LOCATION:Entrenamiento virtual
SUMMARY:Módulo 4 En Línea
END:VEVENT
END:VCALENDAR
