BEGIN:VCALENDAR
VERSION:2.0
PRODID:-//calparents.org//NONSGML kigkonsult.se iCalcreator 2.30.10//
CALSCALE:GREGORIAN
METHOD:PUBLISH
UID:236995b8-10b2-4f60-85da-e29fc675365f
X-WR-CALDESC:<b>Capacitación De La Familia De Recursos:</b> todas las clase
 s son gratis\n\n<b>Módulo 2:</b> los miembros del equipo profesional\, la 
 humildad cultural\, los derechos personales\, el estándar de padres pruden
 te\, la confidencialidad y las visitas.\n\n<b>Al registrarse\, utilice la 
 información de contacto única de cada participante. Esta información se ut
 iliza para verificar la asistencia de cada inscripto.</b>
X-WR-RELCALID:f544488906dd27400a085050643b6166
X-WR-TIMEZONE:America/Los_Angeles
BEGIN:VTIMEZONE
TZID:America/Los_Angeles
BEGIN:STANDARD
TZNAME:PST
DTSTART:20201101T020000
TZOFFSETFROM:-0700
TZOFFSETTO:-0800
RDATE:20211107T020000
RDATE:20221106T020000
END:STANDARD
BEGIN:DAYLIGHT
TZNAME:PDT
DTSTART:20210314T020000
TZOFFSETFROM:-0800
TZOFFSETTO:-0700
RDATE:20220313T020000
RDATE:20230312T020000
END:DAYLIGHT
END:VTIMEZONE
BEGIN:VEVENT
UID:22c76114-7fcd-4063-82e1-06d046161e75
DTSTAMP:20260423T040337Z
DESCRIPTION:<b>Capacitación De La Familia De Recursos:</b> todas las clases
  son gratis\n\n<b>Módulo 2:</b> los miembros del equipo profesional\, la h
 umildad cultural\, los derechos personales\, el estándar de padres prudent
 e\, la confidencialidad y las visitas.\n\n<b>Al registrarse\, utilice la i
 nformación de contacto única de cada participante. Esta información se uti
 liza para verificar la asistencia de cada inscripto.</b>
DTSTART;TZID=America/Los_Angeles:20210913T170000
DTEND;TZID=America/Los_Angeles:20210913T200000
LOCATION:Entrenamiento virtual
SUMMARY:Módulo 2 En Línea
END:VEVENT
END:VCALENDAR
