BEGIN:VCALENDAR
VERSION:2.0
PRODID:-//calparents.org//NONSGML kigkonsult.se iCalcreator 2.30.10//
CALSCALE:GREGORIAN
METHOD:PUBLISH
UID:712186a9-a586-41f1-be18-305392408f58
X-WR-CALDESC:<b>Capacitación De La Familia De Recursos:</b> todas las clase
 s son gratis\; cuidado de niños y comida ligera proporcionada\n<b>Módulo 1
 :</b> Aprobación familiar de recursos\, servicios de bienestar infantil\, 
 seguridad\, permanencia y bienestar\, y planificación concurrente.\n\n<b>A
 l registrarse\, utilice la información de contacto única de cada participa
 nte. Esta información se utiliza para verificar la asistencia de cada insc
 ripto.</b>
X-WR-RELCALID:5b428575f55a01ae3246f88f5df88f5a
X-WR-TIMEZONE:America/Los_Angeles
BEGIN:VTIMEZONE
TZID:America/Los_Angeles
BEGIN:STANDARD
TZNAME:PST
DTSTART:20201101T020000
TZOFFSETFROM:-0700
TZOFFSETTO:-0800
RDATE:20211107T020000
RDATE:20221106T020000
END:STANDARD
BEGIN:DAYLIGHT
TZNAME:PDT
DTSTART:20210314T020000
TZOFFSETFROM:-0800
TZOFFSETTO:-0700
RDATE:20220313T020000
END:DAYLIGHT
END:VTIMEZONE
BEGIN:VEVENT
UID:54509701-7c3a-487e-bc04-5b3bc07393c2
DTSTAMP:20260423T031718Z
DESCRIPTION:<b>Capacitación De La Familia De Recursos:</b> todas las clases
  son gratis\; cuidado de niños y comida ligera proporcionada\n<b>Módulo 1:
 </b> Aprobación familiar de recursos\, servicios de bienestar infantil\, s
 eguridad\, permanencia y bienestar\, y planificación concurrente.\n\n<b>Al
  registrarse\, utilice la información de contacto única de cada participan
 te. Esta información se utiliza para verificar la asistencia de cada inscr
 ipto.</b>
DTSTART;TZID=America/Los_Angeles:20210908T170000
DTEND;TZID=America/Los_Angeles:20210908T200000
LOCATION:Entrenamiento virtual
SUMMARY:Módulo 1 En Línea
END:VEVENT
END:VCALENDAR
