BEGIN:VCALENDAR
VERSION:2.0
PRODID:-//calparents.org//NONSGML kigkonsult.se iCalcreator 2.30.10//
CALSCALE:GREGORIAN
METHOD:PUBLISH
UID:843c504f-63fa-4dea-8bee-c62f23196719
X-WR-CALDESC:<b>Capacitación De La Familia De Recursos:</b> todas las clase
 s son gratis\n\n\n<b>Módulo 6:</b> dolor y pérdida\, transiciones\, trauma
  vicario y resilienci.\n\n<b>Al registrarse\, utilice la información de co
 ntacto única de cada participante. Esta información se utiliza para verifi
 car la asistencia de cada inscripto.</b>
X-WR-RELCALID:d803ac3956518009f102dfeb4886cd0b
X-WR-TIMEZONE:America/Los_Angeles
BEGIN:VTIMEZONE
TZID:America/Los_Angeles
BEGIN:STANDARD
TZNAME:PST
DTSTART:20201101T020000
TZOFFSETFROM:-0700
TZOFFSETTO:-0800
RDATE:20211107T020000
RDATE:20221106T020000
END:STANDARD
BEGIN:DAYLIGHT
TZNAME:PDT
DTSTART:20210314T020000
TZOFFSETFROM:-0800
TZOFFSETTO:-0700
RDATE:20220313T020000
END:DAYLIGHT
END:VTIMEZONE
BEGIN:VEVENT
UID:107ba7e9-8737-4503-8599-e5997997b1d5
DTSTAMP:20260423T055727Z
DESCRIPTION:<b>Capacitación De La Familia De Recursos:</b> todas las clases
  son gratis\n\n\n<b>Módulo 6:</b> dolor y pérdida\, transiciones\, trauma 
 vicario y resilienci.\n\n<b>Al registrarse\, utilice la información de con
 tacto única de cada participante. Esta información se utiliza para verific
 ar la asistencia de cada inscripto.</b>
DTSTART;TZID=America/Los_Angeles:20210726T170000
DTEND;TZID=America/Los_Angeles:20210726T200000
LOCATION:Entrenamiento virtual
SUMMARY:Módulos 6 En Línea
END:VEVENT
END:VCALENDAR
