BEGIN:VCALENDAR
VERSION:2.0
PRODID:-//calparents.org//NONSGML kigkonsult.se iCalcreator 2.30.10//
CALSCALE:GREGORIAN
METHOD:PUBLISH
UID:e9e54ed2-7c94-46d7-bb72-c074afd1293a
X-WR-CALDESC:<b>Capacitación De La Familia De Recursos:</b> todas las clase
 s son gratis\n\n<b>Módulo 3:</b> dominios de desarrollo\, SOGIE\, Naturale
 sa contra Nutrir/Crianza\, apego y las necesidades de los niños y jóvenes 
 en hogares de recurso.\n\n<b>Al registrarse\, utilice la información de co
 ntacto única de cada participante. Esta información se utiliza para verifi
 car la asistencia de cada inscripto.</b>
X-WR-RELCALID:0be12cd0545c5892c1ade19a65578070
X-WR-TIMEZONE:America/Los_Angeles
BEGIN:VTIMEZONE
TZID:America/Los_Angeles
BEGIN:STANDARD
TZNAME:PST
DTSTART:20201101T020000
TZOFFSETFROM:-0700
TZOFFSETTO:-0800
RDATE:20211107T020000
RDATE:20221106T020000
END:STANDARD
BEGIN:DAYLIGHT
TZNAME:PDT
DTSTART:20210314T020000
TZOFFSETFROM:-0800
TZOFFSETTO:-0700
RDATE:20220313T020000
END:DAYLIGHT
END:VTIMEZONE
BEGIN:VEVENT
UID:6ed0e474-2499-4dee-818d-62d477321dea
DTSTAMP:20260423T055640Z
DESCRIPTION:<b>Capacitación De La Familia De Recursos:</b> todas las clases
  son gratis\n\n<b>Módulo 3:</b> dominios de desarrollo\, SOGIE\, Naturales
 a contra Nutrir/Crianza\, apego y las necesidades de los niños y jóvenes e
 n hogares de recurso.\n\n<b>Al registrarse\, utilice la información de con
 tacto única de cada participante. Esta información se utiliza para verific
 ar la asistencia de cada inscripto.</b>
DTSTART;TZID=America/Los_Angeles:20210714T170000
DTEND;TZID=America/Los_Angeles:20210714T200000
LOCATION:Entrenamiento virtual
SUMMARY:Módulo 3 En Línea
END:VEVENT
END:VCALENDAR
