BEGIN:VCALENDAR
VERSION:2.0
PRODID:-//calparents.org//NONSGML kigkonsult.se iCalcreator 2.30.10//
CALSCALE:GREGORIAN
METHOD:PUBLISH
UID:810456a7-d84e-405d-8e96-6f4d149a25bc
X-WR-CALDESC:<b>Module 1 Course Objectives:</b> resource family approval\, 
 child welfare services\, safety\, permanency and well-being\, and concurre
 nt planning.\n\n<b>When registering\, please use the unique contact inform
 ation for each participant. This information is used to verify each regist
 rants attendance.</b>
X-WR-RELCALID:969e38d42e2aa69a115c9ea87def1365
X-WR-TIMEZONE:America/Los_Angeles
BEGIN:VTIMEZONE
TZID:America/Los_Angeles
BEGIN:STANDARD
TZNAME:PST
DTSTART:20201101T020000
TZOFFSETFROM:-0700
TZOFFSETTO:-0800
RDATE:20211107T020000
RDATE:20221106T020000
END:STANDARD
BEGIN:DAYLIGHT
TZNAME:PDT
DTSTART:20210314T020000
TZOFFSETFROM:-0800
TZOFFSETTO:-0700
RDATE:20220313T020000
END:DAYLIGHT
END:VTIMEZONE
BEGIN:VEVENT
UID:cd4ae24d-412a-4dcd-a93e-72ee57008e87
DTSTAMP:20260423T055430Z
DESCRIPTION:<b>Module 1 Course Objectives:</b> resource family approval\, c
 hild welfare services\, safety\, permanency and well-being\, and concurren
 t planning.\n\n<b>When registering\, please use the unique contact informa
 tion for each participant. This information is used to verify each registr
 ants attendance.</b>
DTSTART;TZID=America/Los_Angeles:20210706T170000
DTEND;TZID=America/Los_Angeles:20210706T200000
LOCATION:Virtual Training
SUMMARY:Module 1 Online
END:VEVENT
END:VCALENDAR
