BEGIN:VCALENDAR
VERSION:2.0
PRODID:-//calparents.org//NONSGML kigkonsult.se iCalcreator 2.30.10//
CALSCALE:GREGORIAN
METHOD:PUBLISH
UID:9d04a3e7-4539-4076-98cd-f1127c4ab5af
X-WR-CALDESC:Please join CPI and fellow Resource Parents for this essential
 \, informative training in fulfillment of the new state-mandated Care and 
 Supervision Best Practices for Commercially Sexually Exploited Children fo
 r California Resource Families.\n\nPARTICIPANTS WILL:\n\n- Learn the basic
  facts about Commercial Sexual Exploitations of Children (CSEC)\n- Underst
 and the intersection with Foster Care\n- Learn how to set the youth and Re
 source Family up for success\n- Hear a survivor's perspective\n\nOBJECTIVE
 S:\n\n- Recognize CSEC Red Flags and Warning Signs\n- Understand their Uni
 que Trauma \n- Understand their Trauma Bonds\n- Understand their Triggers
 \n- Understand their Flight Response\n\n<b>This course meets qualification
 s for 3 hours of continuing education required for Resource Parents/Foster
  Parents.</b>\n\n<b>About Our Presenters</b>\n\nDeena Graves\, PhD\, found
 ed Traffick911\, a Dallas-based anti-trafficking nonprofit that has receiv
 ed national recognition for her copyrighted Traps of a Trafficker© youth p
 revention-and-identification program. The Traps also has handed child sex 
 traffickers multiple felony arrests and convictions\, including an unprece
 dented four life sentences for one pimp. Deena is an international award-w
 inning communicator who uses that expertise to give a voice to children wh
 ose voice and hope have been stripped away by those preying upon them for 
 their own pleasure and profit.\n\nDerek Williams has been working for more
  than a decade to get pimps\, buyers\, and victims out of the game after t
 rafficking more than 150 people in all 50 states\, Canada\, and Europe. De
 rek started pimping at 16 when he sold his 14-year-old girlfriend to buy h
 eroin. Derek puts his desire to help this way -- 'By unpacking my story\, 
 I hope to give you strategies to combat the hopelessness that holds many o
 f our children\ncaptive\, making them easy prey for a skilled manipulator.
  While I can never make retribution for all the lives I ravaged\, I long t
 o prevent the destruction of more of our children.”
X-WR-RELCALID:3d24471f288f1cdb9f053c7bb371cb4c
X-WR-TIMEZONE:America/Los_Angeles
BEGIN:VTIMEZONE
TZID:America/Los_Angeles
BEGIN:STANDARD
TZNAME:PST
DTSTART:20201101T020000
TZOFFSETFROM:-0700
TZOFFSETTO:-0800
RDATE:20211107T020000
RDATE:20221106T020000
END:STANDARD
BEGIN:DAYLIGHT
TZNAME:PDT
DTSTART:20210314T020000
TZOFFSETFROM:-0800
TZOFFSETTO:-0700
RDATE:20220313T020000
END:DAYLIGHT
END:VTIMEZONE
BEGIN:VEVENT
UID:a3a8ad3a-9fcb-4377-a967-fc1c7ff22f21
DTSTAMP:20260423T072647Z
DESCRIPTION:Please join CPI and fellow Resource Parents for this essential\
 , informative training in fulfillment of the new state-mandated Care and S
 upervision Best Practices for Commercially Sexually Exploited Children for
  California Resource Families.\n\nPARTICIPANTS WILL:\n\n- Learn the basic 
 facts about Commercial Sexual Exploitations of Children (CSEC)\n- Understa
 nd the intersection with Foster Care\n- Learn how to set the youth and Res
 ource Family up for success\n- Hear a survivor's perspective\n\nOBJECTIVES
 :\n\n- Recognize CSEC Red Flags and Warning Signs\n- Understand their Uniq
 ue Trauma \n- Understand their Trauma Bonds\n- Understand their Triggers\n
 - Understand their Flight Response\n\n<b>This course meets qualifications 
 for 3 hours of continuing education required for Resource Parents/Foster P
 arents.</b>\n\n<b>About Our Presenters</b>\n\nDeena Graves\, PhD\, founded
  Traffick911\, a Dallas-based anti-trafficking nonprofit that has received
  national recognition for her copyrighted Traps of a Trafficker© youth pre
 vention-and-identification program. The Traps also has handed child sex tr
 affickers multiple felony arrests and convictions\, including an unprecede
 nted four life sentences for one pimp. Deena is an international award-win
 ning communicator who uses that expertise to give a voice to children whos
 e voice and hope have been stripped away by those preying upon them for th
 eir own pleasure and profit.\n\nDerek Williams has been working for more t
 han a decade to get pimps\, buyers\, and victims out of the game after tra
 fficking more than 150 people in all 50 states\, Canada\, and Europe. Dere
 k started pimping at 16 when he sold his 14-year-old girlfriend to buy her
 oin. Derek puts his desire to help this way -- 'By unpacking my story\, I 
 hope to give you strategies to combat the hopelessness that holds many of 
 our children\ncaptive\, making them easy prey for a skilled manipulator. W
 hile I can never make retribution for all the lives I ravaged\, I long to 
 prevent the destruction of more of our children.”
DTSTART;TZID=America/Los_Angeles:20210605T090000
DTEND;TZID=America/Los_Angeles:20210605T120000
LOCATION:Free Online In-Service Training
SUMMARY:Staying Power: Fostering Trafficked Youth
END:VEVENT
END:VCALENDAR
