BEGIN:VCALENDAR
VERSION:2.0
PRODID:-//calparents.org//NONSGML kigkonsult.se iCalcreator 2.30.10//
CALSCALE:GREGORIAN
METHOD:PUBLISH
UID:673e15e0-a89e-4a29-8776-144a14946800
X-WR-CALDESC:<b>Module 6 Course Objectives:</b> grief and loss\, transition
 s\, vicarious trauma\, and resiliency.\n\n\n<b>When registering\, please u
 se the unique contact information for each participant. This information i
 s used to verify each registrants attendance.</b>
X-WR-RELCALID:35610899cfb33265b73d33a023bed788
X-WR-TIMEZONE:America/Los_Angeles
BEGIN:VTIMEZONE
TZID:America/Los_Angeles
BEGIN:STANDARD
TZNAME:PST
DTSTART:20201101T020000
TZOFFSETFROM:-0700
TZOFFSETTO:-0800
RDATE:20211107T020000
RDATE:20221106T020000
END:STANDARD
BEGIN:DAYLIGHT
TZNAME:PDT
DTSTART:20210314T020000
TZOFFSETFROM:-0800
TZOFFSETTO:-0700
RDATE:20220313T020000
END:DAYLIGHT
END:VTIMEZONE
BEGIN:VEVENT
UID:a7cbc96e-f80a-41b6-8695-83dfd8653990
DTSTAMP:20260423T084246Z
DESCRIPTION:<b>Module 6 Course Objectives:</b> grief and loss\, transitions
 \, vicarious trauma\, and resiliency.\n\n\n<b>When registering\, please us
 e the unique contact information for each participant. This information is
  used to verify each registrants attendance.</b>
DTSTART;TZID=America/Los_Angeles:20210520T170000
DTEND;TZID=America/Los_Angeles:20210520T200000
LOCATION:Virtual Training
SUMMARY:Module 6 Online
END:VEVENT
END:VCALENDAR
