BEGIN:VCALENDAR
VERSION:2.0
PRODID:-//calparents.org//NONSGML kigkonsult.se iCalcreator 2.30.10//
CALSCALE:GREGORIAN
METHOD:PUBLISH
UID:c43a78ed-162b-42e9-a4be-ae85a887f34c
X-WR-CALDESC:<b>Capacitación De La Familia De Recursos:</b> todas las clase
 s son gratis\n\n<b>Módulo 5:</b> tipos de trauma infantil\, ciclo de respu
 esta al estrés traumático\, comprensión de desencadenantes del trauma y el
  impacto de la exposición al trauma.\n\n<b>Al registrarse\, utilice la inf
 ormación de contacto única de cada participante. Esta información se utili
 za para verificar la asistencia de cada inscripto.</b>
X-WR-RELCALID:d7b90bec327aa383dd3253e28978db7b
X-WR-TIMEZONE:America/Los_Angeles
BEGIN:VTIMEZONE
TZID:America/Los_Angeles
BEGIN:STANDARD
TZNAME:PST
DTSTART:20201101T020000
TZOFFSETFROM:-0700
TZOFFSETTO:-0800
RDATE:20211107T020000
RDATE:20221106T020000
END:STANDARD
BEGIN:DAYLIGHT
TZNAME:PDT
DTSTART:20210314T020000
TZOFFSETFROM:-0800
TZOFFSETTO:-0700
RDATE:20220313T020000
END:DAYLIGHT
END:VTIMEZONE
BEGIN:VEVENT
UID:557c47d8-d87a-482a-a98d-9869416cfe73
DTSTAMP:20260423T084129Z
DESCRIPTION:<b>Capacitación De La Familia De Recursos:</b> todas las clases
  son gratis\n\n<b>Módulo 5:</b> tipos de trauma infantil\, ciclo de respue
 sta al estrés traumático\, comprensión de desencadenantes del trauma y el 
 impacto de la exposición al trauma.\n\n<b>Al registrarse\, utilice la info
 rmación de contacto única de cada participante. Esta información se utiliz
 a para verificar la asistencia de cada inscripto.</b>
DTSTART;TZID=America/Los_Angeles:20210517T170000
DTEND;TZID=America/Los_Angeles:20210517T200000
LOCATION:Entrenamiento virtual
SUMMARY:Módulos 5 En Línea
END:VEVENT
END:VCALENDAR
