BEGIN:VCALENDAR
VERSION:2.0
PRODID:-//calparents.org//NONSGML kigkonsult.se iCalcreator 2.30.10//
CALSCALE:GREGORIAN
METHOD:PUBLISH
UID:3d51125f-e158-46ab-baf8-af0a09aee109
X-WR-CALDESC:<b>Capacitación en línea gratuita para padres de recursos.</b>
 \n\nEsperamos que se una a nosotros para los bebés y niños expuestos a las
  drogas y el alcohol\, un seminario web importante y informativo presentad
 o por Carmen Razo-Clark y Dr. Erin Lund.\n\nEste seminario web para padres
  de recursos y profesionales nos enseñará sobre el cuidado de bebés y niño
 s expuestos a drogas y alcohol. Participantes aprenderá sobre los efectos 
 a largo y corto plazo de los estimulantes\, opiáceos\, alcohol y cómo cada
  uno afecta a los niños de manera diferente. Los participantes aprenderán 
 sobre las intervenciones y cómo aplicarlas a través del uso de escenarios.
 \n\nUna buena parte de esta clase también se centrará en cómo identificar 
 el trastorno del espectro alcohólico fetal y las estrategias para interven
 ción.\n\nEste curso cumple con los requisitos para 3 horas de educación co
 ntinua requeridas para padres de recursos / padres de crianza.\n\n<b>Al re
 gistrarse\, utilice la información de contacto única de cada participante.
  Esta información se utiliza para verificar la asistencia de cada inscript
 o.</b>
X-WR-RELCALID:89b79a44c125caa3bc03e14afc37b474
X-WR-TIMEZONE:America/Los_Angeles
BEGIN:VTIMEZONE
TZID:America/Los_Angeles
BEGIN:STANDARD
TZNAME:PST
DTSTART:20201101T020000
TZOFFSETFROM:-0700
TZOFFSETTO:-0800
RDATE:20211107T020000
RDATE:20221106T020000
END:STANDARD
BEGIN:DAYLIGHT
TZNAME:PDT
DTSTART:20210314T020000
TZOFFSETFROM:-0800
TZOFFSETTO:-0700
RDATE:20220313T020000
END:DAYLIGHT
END:VTIMEZONE
BEGIN:VEVENT
UID:3b93ca40-3153-4e51-b3b0-5cf09fed5a18
DTSTAMP:20260423T085423Z
DESCRIPTION:<b>Capacitación en línea gratuita para padres de recursos.</b>
 \n\nEsperamos que se una a nosotros para los bebés y niños expuestos a las
  drogas y el alcohol\, un seminario web importante y informativo presentad
 o por Carmen Razo-Clark y Dr. Erin Lund.\n\nEste seminario web para padres
  de recursos y profesionales nos enseñará sobre el cuidado de bebés y niño
 s expuestos a drogas y alcohol. Participantes aprenderá sobre los efectos 
 a largo y corto plazo de los estimulantes\, opiáceos\, alcohol y cómo cada
  uno afecta a los niños de manera diferente. Los participantes aprenderán 
 sobre las intervenciones y cómo aplicarlas a través del uso de escenarios.
 \n\nUna buena parte de esta clase también se centrará en cómo identificar 
 el trastorno del espectro alcohólico fetal y las estrategias para interven
 ción.\n\nEste curso cumple con los requisitos para 3 horas de educación co
 ntinua requeridas para padres de recursos / padres de crianza.\n\n<b>Al re
 gistrarse\, utilice la información de contacto única de cada participante.
  Esta información se utiliza para verificar la asistencia de cada inscript
 o.</b>
DTSTART;TZID=America/Los_Angeles:20210508T090000
DTEND;TZID=America/Los_Angeles:20210508T120000
LOCATION:Entrenamiento virtual
SUMMARY:Bebés y Niños Expuestos a Drogas y Alcohol
END:VEVENT
END:VCALENDAR
