BEGIN:VCALENDAR
VERSION:2.0
PRODID:-//calparents.org//NONSGML kigkonsult.se iCalcreator 2.30.10//
CALSCALE:GREGORIAN
METHOD:PUBLISH
UID:a1e4178a-c481-4311-8610-8b20b6c19331
X-WR-CALDESC:<b>Module 6 Course Objectives:</b> grief and loss\, transition
 s\, vicarious trauma\, and resiliency.\n\n<b>When registering\, please use
  the unique contact information for each participant. This information is 
 used to verify each registrants attendance.</b>
X-WR-RELCALID:da3916dc678d74296b82a89958625197
X-WR-TIMEZONE:America/Los_Angeles
BEGIN:VTIMEZONE
TZID:America/Los_Angeles
BEGIN:STANDARD
TZNAME:PST
DTSTART:20201101T020000
TZOFFSETFROM:-0700
TZOFFSETTO:-0800
RDATE:20211107T020000
END:STANDARD
BEGIN:DAYLIGHT
TZNAME:PDT
DTSTART:20210314T020000
TZOFFSETFROM:-0800
TZOFFSETTO:-0700
RDATE:20220313T020000
END:DAYLIGHT
END:VTIMEZONE
BEGIN:VEVENT
UID:4b5704a7-48d5-43d7-ace4-3382101c81e9
DTSTAMP:20260423T100343Z
DESCRIPTION:<b>Module 6 Course Objectives:</b> grief and loss\, transitions
 \, vicarious trauma\, and resiliency.\n\n<b>When registering\, please use 
 the unique contact information for each participant. This information is u
 sed to verify each registrants attendance.</b>
DTSTART;TZID=America/Los_Angeles:20210410T090000
DTEND;TZID=America/Los_Angeles:20210410T110000
LOCATION:Virtual Training
SUMMARY:Module 6 Online
END:VEVENT
END:VCALENDAR
