BEGIN:VCALENDAR
VERSION:2.0
PRODID:-//calparents.org//NONSGML kigkonsult.se iCalcreator 2.30.10//
CALSCALE:GREGORIAN
METHOD:PUBLISH
UID:7c716339-294d-40d7-9282-a5ac0adba97a
X-WR-CALDESC:<b>Module 2 Course Objectives:</b> the members of the professi
 onal team\, cultural humility\, personal rights\, prudent parent standard\
 , and confidentiality.\n\n<b>When registering\, please use the unique cont
 act information for each participant. This information is used to verify e
 ach registrants attendance.</b>
X-WR-RELCALID:6365fadc2f332900f36736b91cb952c2
X-WR-TIMEZONE:America/Los_Angeles
BEGIN:VTIMEZONE
TZID:America/Los_Angeles
BEGIN:STANDARD
TZNAME:PST
DTSTART:20201101T020000
TZOFFSETFROM:-0700
TZOFFSETTO:-0800
RDATE:20211107T020000
END:STANDARD
BEGIN:DAYLIGHT
TZNAME:PDT
DTSTART:20210314T020000
TZOFFSETFROM:-0800
TZOFFSETTO:-0700
RDATE:20220313T020000
END:DAYLIGHT
END:VTIMEZONE
BEGIN:VEVENT
UID:6ab0d1ca-4d03-4c03-8abd-5bc69c661afd
DTSTAMP:20260423T113207Z
DESCRIPTION:<b>Module 2 Course Objectives:</b> the members of the professio
 nal team\, cultural humility\, personal rights\, prudent parent standard\,
  and confidentiality.\n\n<b>When registering\, please use the unique conta
 ct information for each participant. This information is used to verify ea
 ch registrants attendance.</b>
DTSTART;TZID=America/Los_Angeles:20210313T090000
DTEND;TZID=America/Los_Angeles:20210313T120000
LOCATION:Virtual Training
SUMMARY:Module 2 Online
END:VEVENT
END:VCALENDAR
