BEGIN:VCALENDAR
VERSION:2.0
PRODID:-//calparents.org//NONSGML kigkonsult.se iCalcreator 2.30.10//
CALSCALE:GREGORIAN
METHOD:PUBLISH
UID:31768fe9-be1b-4d7b-adc1-eba8070ecba6
X-WR-CALDESC:<b>Module 1 Course Objectives:</b> resource family approval\, 
 child welfare services\, safety\, permanency and well-being\, and concurre
 nt planning.\n\n<b>When registering\, please use the unique contact inform
 ation for each participant. This information is used to verify each regist
 rants attendance.</b>
X-WR-RELCALID:f5a45334bcbf0fd4c5c338fd4e3cf89c
X-WR-TIMEZONE:America/Los_Angeles
BEGIN:VTIMEZONE
TZID:America/Los_Angeles
BEGIN:STANDARD
TZNAME:PST
DTSTART:20201101T020000
TZOFFSETFROM:-0700
TZOFFSETTO:-0800
RDATE:20211107T020000
END:STANDARD
BEGIN:DAYLIGHT
TZNAME:PDT
DTSTART:20200308T020000
TZOFFSETFROM:-0800
TZOFFSETTO:-0700
RDATE:20210314T020000
RDATE:20220313T020000
END:DAYLIGHT
END:VTIMEZONE
BEGIN:VEVENT
UID:d7c43600-2058-4788-9cac-7789fa2a00f3
DTSTAMP:20260423T112727Z
DESCRIPTION:<b>Module 1 Course Objectives:</b> resource family approval\, c
 hild welfare services\, safety\, permanency and well-being\, and concurren
 t planning.\n\n<b>When registering\, please use the unique contact informa
 tion for each participant. This information is used to verify each registr
 ants attendance.</b>
DTSTART;TZID=America/Los_Angeles:20210306T090000
DTEND;TZID=America/Los_Angeles:20210306T120000
LOCATION:Virtual Training
SUMMARY:Module 1 Online
END:VEVENT
END:VCALENDAR
