BEGIN:VCALENDAR
VERSION:2.0
PRODID:-//calparents.org//NONSGML kigkonsult.se iCalcreator 2.30.10//
CALSCALE:GREGORIAN
METHOD:PUBLISH
UID:49e3807a-218d-4cbf-8f2d-e806cbc96d82
X-WR-CALDESC:CPI is offering a free Foster Fathers Group for male caregiver
 s and resource fathers (foster fathers)\, including male-identified kinshi
 p or non-relative extended family member care providers. This group meets 
 the last Friday of the month\, excluding holidays\, for a two-hour session
 . \n\nOur facilitators will provide support and education on a variety of 
 topics. Come join us in a supportive environment to share experiences\, co
 ncerns\, and successes.
X-WR-RELCALID:2861a895b2205856895de8b0503097a6
X-WR-TIMEZONE:America/Los_Angeles
BEGIN:VTIMEZONE
TZID:America/Los_Angeles
BEGIN:STANDARD
TZNAME:PST
DTSTART:20201101T020000
TZOFFSETFROM:-0700
TZOFFSETTO:-0800
RDATE:20211107T020000
END:STANDARD
BEGIN:DAYLIGHT
TZNAME:PDT
DTSTART:20200308T020000
TZOFFSETFROM:-0800
TZOFFSETTO:-0700
RDATE:20210314T020000
RDATE:20220313T020000
END:DAYLIGHT
END:VTIMEZONE
BEGIN:VEVENT
UID:9a250f4c-4bda-4162-b7fb-56a759e7bbf0
DTSTAMP:20260423T175948Z
DESCRIPTION:CPI is offering a free Foster Fathers Group for male caregivers
  and resource fathers (foster fathers)\, including male-identified kinship
  or non-relative extended family member care providers. This group meets t
 he last Friday of the month\, excluding holidays\, for a two-hour session.
  \n\nOur facilitators will provide support and education on a variety of t
 opics. Come join us in a supportive environment to share experiences\, con
 cerns\, and successes.
DTSTART;TZID=America/Los_Angeles:20201120T170000
DTEND;TZID=America/Los_Angeles:20201120T190000
LOCATION:FREE online group
SUMMARY:Foster Fathers Group
END:VEVENT
END:VCALENDAR
