BEGIN:VCALENDAR
VERSION:2.0
PRODID:-//calparents.org//NONSGML kigkonsult.se iCalcreator 2.30.10//
CALSCALE:GREGORIAN
METHOD:PUBLISH
UID:af598ad1-2cf5-432e-b709-cee77c1b4a04
X-WR-CALDESC:<b>Module 6 Course Objectives:</b> grief and loss\, transition
 s\, vicarious trauma\, and resiliency.\n\n\n<b>When registering\, please u
 se the unique contact information for each participant. This information i
 s used to verify each registrants attendance.</b>
X-WR-RELCALID:f59c4d96c3d81a1109ef89ce67b54a2b
X-WR-TIMEZONE:America/Los_Angeles
BEGIN:VTIMEZONE
TZID:America/Los_Angeles
BEGIN:STANDARD
TZNAME:PST
DTSTART:20201101T020000
TZOFFSETFROM:-0700
TZOFFSETTO:-0800
RDATE:20211107T020000
END:STANDARD
BEGIN:DAYLIGHT
TZNAME:PDT
DTSTART:20200308T020000
TZOFFSETFROM:-0800
TZOFFSETTO:-0700
RDATE:20210314T020000
RDATE:20220313T020000
END:DAYLIGHT
END:VTIMEZONE
BEGIN:VEVENT
UID:aa2fe9a3-f00f-4b99-9911-0741982aa099
DTSTAMP:20260423T175636Z
DESCRIPTION:<b>Module 6 Course Objectives:</b> grief and loss\, transitions
 \, vicarious trauma\, and resiliency.\n\n\n<b>When registering\, please us
 e the unique contact information for each participant. This information is
  used to verify each registrants attendance.</b>
DTSTART;TZID=America/Los_Angeles:20201119T170000
DTEND;TZID=America/Los_Angeles:20201119T200000
LOCATION:Virtual Training
SUMMARY:Module 6 Online
END:VEVENT
END:VCALENDAR
