BEGIN:VCALENDAR
VERSION:2.0
PRODID:-//calparents.org//NONSGML kigkonsult.se iCalcreator 2.30.10//
CALSCALE:GREGORIAN
METHOD:PUBLISH
UID:69b92066-c69c-481b-8c5f-18f5ea9dc695
X-WR-CALDESC:<b>Capacitación De La Familia De Recursos:</b> todas las clase
 s son gratis\n\n<b>Módulo 5:</b> tipos de trauma infantil\, ciclo de respu
 esta al estrés traumático\, comprensión de desencadenantes del trauma y el
  impacto de la exposición al trauma.\n<b>Módulo 6:</b> dolor y pérdida\, t
 ransiciones\, trauma vicario y resilienci.\n\n<b>Al registrarse\, utilice 
 la información de contacto única de cada participante. Esta información se
  utiliza para verificar la asistencia de cada inscripto.</b>
X-WR-RELCALID:eadfbdc9ce770a009665a65757220a2d
X-WR-TIMEZONE:America/Los_Angeles
BEGIN:VTIMEZONE
TZID:America/Los_Angeles
BEGIN:STANDARD
TZNAME:PST
DTSTART:20201101T020000
TZOFFSETFROM:-0700
TZOFFSETTO:-0800
RDATE:20211107T020000
END:STANDARD
BEGIN:DAYLIGHT
TZNAME:PDT
DTSTART:20200308T020000
TZOFFSETFROM:-0800
TZOFFSETTO:-0700
RDATE:20210314T020000
RDATE:20220313T020000
END:DAYLIGHT
END:VTIMEZONE
BEGIN:VEVENT
UID:ad9e1bd1-76ee-469c-9db7-2bf576cffa5f
DTSTAMP:20260423T175912Z
DESCRIPTION:<b>Capacitación De La Familia De Recursos:</b> todas las clases
  son gratis\n\n<b>Módulo 5:</b> tipos de trauma infantil\, ciclo de respue
 sta al estrés traumático\, comprensión de desencadenantes del trauma y el 
 impacto de la exposición al trauma.\n<b>Módulo 6:</b> dolor y pérdida\, tr
 ansiciones\, trauma vicario y resilienci.\n\n<b>Al registrarse\, utilice l
 a información de contacto única de cada participante. Esta información se 
 utiliza para verificar la asistencia de cada inscripto.</b>
DTSTART;TZID=America/Los_Angeles:20201118T160000
DTEND;TZID=America/Los_Angeles:20201118T190000
LOCATION:Entrenamiento virtual
SUMMARY:Módulos 5 y 6 En Línea
END:VEVENT
END:VCALENDAR
