BEGIN:VCALENDAR
VERSION:2.0
PRODID:-//calparents.org//NONSGML kigkonsult.se iCalcreator 2.30.10//
CALSCALE:GREGORIAN
METHOD:PUBLISH
UID:d9e96ed8-60b1-4a30-94bf-edd2ede8aa40
X-WR-CALDESC:<b>Capacitación De La Familia De Recursos:</b> todas las clase
 s son gratis\n\n<b>Módulo 3:</b> dominios de desarrollo\, SOGIE\, Naturale
 sa contra Nutrir/Crianza\, apego y las necesidades de los niños y jóvenes 
 en hogares de recurso.\n\n<b>Al registrarse\, utilice la información de co
 ntacto única de cada participante. Esta información se utiliza para verifi
 car la asistencia de cada inscripto.</b>
X-WR-RELCALID:52ca945fc47322a746440bd9b2a261de
X-WR-TIMEZONE:America/Los_Angeles
BEGIN:VTIMEZONE
TZID:America/Los_Angeles
BEGIN:STANDARD
TZNAME:PST
DTSTART:20201101T020000
TZOFFSETFROM:-0700
TZOFFSETTO:-0800
RDATE:20211107T020000
END:STANDARD
BEGIN:DAYLIGHT
TZNAME:PDT
DTSTART:20200308T020000
TZOFFSETFROM:-0800
TZOFFSETTO:-0700
RDATE:20210314T020000
RDATE:20220313T020000
END:DAYLIGHT
END:VTIMEZONE
BEGIN:VEVENT
UID:3a959e30-44b5-4aa9-8309-d6e1be9817b9
DTSTAMP:20260423T175819Z
DESCRIPTION:<b>Capacitación De La Familia De Recursos:</b> todas las clases
  son gratis\n\n<b>Módulo 3:</b> dominios de desarrollo\, SOGIE\, Naturales
 a contra Nutrir/Crianza\, apego y las necesidades de los niños y jóvenes e
 n hogares de recurso.\n\n<b>Al registrarse\, utilice la información de con
 tacto única de cada participante. Esta información se utiliza para verific
 ar la asistencia de cada inscripto.</b>
DTSTART;TZID=America/Los_Angeles:20201109T160000
DTEND;TZID=America/Los_Angeles:20201109T190000
LOCATION:Entrenamiento virtual
SUMMARY:Módulo 3 En Línea
END:VEVENT
END:VCALENDAR
