BEGIN:VCALENDAR
VERSION:2.0
PRODID:-//calparents.org//NONSGML kigkonsult.se iCalcreator 2.30.10//
CALSCALE:GREGORIAN
METHOD:PUBLISH
UID:49479d44-bbbe-4fdb-a3d3-41d42e10d819
X-WR-CALDESC:CPI is offering a free Resource Fathers Group for male caregiv
 ers and resource fathers (foster fathers)\, including male-identified kins
 hip or non-relative extended family member care providers. This group meet
 s the last Friday of the month\, excluding holidays\, for a two-hour sessi
 on. Our facilitators will provide support and education on a variety of to
 pics. Come join us in a supportive environment to share experiences\, conc
 erns\, and successes.
X-WR-RELCALID:398a6ad1c46cb0770c053a8d2e2d8701
X-WR-TIMEZONE:America/Los_Angeles
BEGIN:VTIMEZONE
TZID:America/Los_Angeles
BEGIN:STANDARD
TZNAME:PST
DTSTART:20191103T020000
TZOFFSETFROM:-0700
TZOFFSETTO:-0800
RDATE:20201101T020000
RDATE:20211107T020000
END:STANDARD
BEGIN:DAYLIGHT
TZNAME:PDT
DTSTART:20200308T020000
TZOFFSETFROM:-0800
TZOFFSETTO:-0700
RDATE:20210314T020000
RDATE:20220313T020000
END:DAYLIGHT
END:VTIMEZONE
BEGIN:VEVENT
UID:b7259951-4f3a-4551-a858-f69239736542
DTSTAMP:20260423T192315Z
DESCRIPTION:CPI is offering a free Resource Fathers Group for male caregive
 rs and resource fathers (foster fathers)\, including male-identified kinsh
 ip or non-relative extended family member care providers. This group meets
  the last Friday of the month\, excluding holidays\, for a two-hour sessio
 n. Our facilitators will provide support and education on a variety of top
 ics. Come join us in a supportive environment to share experiences\, conce
 rns\, and successes.
DTSTART;TZID=America/Los_Angeles:20201030T170000
DTEND;TZID=America/Los_Angeles:20201030T190000
LOCATION:FREE online group
SUMMARY:Resource Fathers Group
END:VEVENT
END:VCALENDAR
