BEGIN:VCALENDAR
VERSION:2.0
PRODID:-//calparents.org//NONSGML kigkonsult.se iCalcreator 2.30.10//
CALSCALE:GREGORIAN
METHOD:PUBLISH
UID:7c6571e4-2a7f-4f06-8e9d-40597a0747c2
X-WR-CALDESC:<b>Module 2 Course Objectives:</b> the members of the professi
 onal team\, cultural humility\, personal rights\, prudent parent standard\
 , and confidentiality.\n\n<b>When registering\, please use the unique cont
 act information for each participant. This information is used to verify e
 ach registrants attendance.</b>
X-WR-RELCALID:548504d528f39da7e802eca3d488198d
X-WR-TIMEZONE:America/Los_Angeles
BEGIN:VTIMEZONE
TZID:America/Los_Angeles
BEGIN:STANDARD
TZNAME:PST
DTSTART:20191103T020000
TZOFFSETFROM:-0700
TZOFFSETTO:-0800
RDATE:20201101T020000
RDATE:20211107T020000
END:STANDARD
BEGIN:DAYLIGHT
TZNAME:PDT
DTSTART:20200308T020000
TZOFFSETFROM:-0800
TZOFFSETTO:-0700
RDATE:20210314T020000
RDATE:20220313T020000
END:DAYLIGHT
END:VTIMEZONE
BEGIN:VEVENT
UID:57412c56-7001-437f-a6a8-17596b1ecfad
DTSTAMP:20260423T204415Z
DESCRIPTION:<b>Module 2 Course Objectives:</b> the members of the professio
 nal team\, cultural humility\, personal rights\, prudent parent standard\,
  and confidentiality.\n\n<b>When registering\, please use the unique conta
 ct information for each participant. This information is used to verify ea
 ch registrants attendance.</b>
DTSTART;TZID=America/Los_Angeles:20200912T100000
DTEND;TZID=America/Los_Angeles:20200912T130000
LOCATION:Virtual Training
SUMMARY:Module 2 Online
END:VEVENT
END:VCALENDAR
