BEGIN:VCALENDAR
VERSION:2.0
PRODID:-//calparents.org//NONSGML kigkonsult.se iCalcreator 2.30.10//
CALSCALE:GREGORIAN
METHOD:PUBLISH
UID:e59eb659-0eba-490d-a2c4-3408ab872fa8
X-WR-CALDESC:<b>Understanding and Responding to Children with Emotional and
  Behavioral Challenges Using a Positive\, Trauma-informed\, Strength-Based
  Approach and Creating a Positive\, Strength-Based Culture for Children in
  Care.</b>\n\nStrength-based practice is an emerging approach to guiding c
 hildren\, in particular\, those with emotional and behavioral challenges\,
  that is exceptionally positive and inspiring. Its focus is on strength-bu
 ilding rather than flaw-fixing. It begins with the belief that every young
  person has or can develop strengths and utilize past successes to mitigat
 e problem behavior and enhance academic and social functioning. \n\nThis p
 resentation will highlight many of the key principles and techniques of th
 is transforming modality. Areas covered include: \n\n- What is strength-ba
 sed practice?\n- The power of a positive attitude and culture.\n- The effe
 cts of trauma and positive emotions on the brain\n- Changing negative mind
 sets and the deleterious effects of pejorative labeling\n- Strength-based 
 communication principles and techniques – including re-framing\, using sol
 ution-focused questions\, positive predicting and inspirational metaphors
 \n- Self-esteem building and activities for at-risk children and youth\n- 
 How to help cognitively - inflexible students\n- The importance of being f
 amily-friendly\n- Why\, how\, and when to use incentive plans\; the import
 ance of controlling personal emotions (i.e. managing number one first)\nre
 spectful\, relationship-based limit setting\n- A host of creative cognitiv
 e-behavioral strategies\n\n\n<b>About Charlie Appelstein</b>\nYouth care s
 pecialist Charlie Appelstein\, M.S.W.\, President of Appelstein Training R
 esources\, LLC (ATR) provides expert strength-based training and consultat
 ion for individuals and groups who work with children and youth experienci
 ng emotional and behavioral challenges.     \n\nDescribed as 'the best you
 th care trainer in America' by Robert Lieberman\, former president of the 
 American Association of Children's Residential Centers\, Charlie has devot
 ed his entire adult career to helping children and youth struggling with e
 motional and behavioral challenges and those who guide them. An engaging\,
  informative\, and humorous speaker\, Charlie is the author of three criti
 cally acclaimed books on youth care and the creator of two innovative CDs 
 that help kids and parents make better choices and lead happier lives. Cha
 rlie's strength-based approach delivers a message of hope and possibility 
 to our most vulnerable youth and those who shape and influence their lives
 .
X-WR-RELCALID:6288614d0057b72550bb69a2987a2351
X-WR-TIMEZONE:America/Los_Angeles
BEGIN:VTIMEZONE
TZID:America/Los_Angeles
BEGIN:STANDARD
TZNAME:PST
DTSTART:20191103T020000
TZOFFSETFROM:-0700
TZOFFSETTO:-0800
RDATE:20201101T020000
RDATE:20211107T020000
END:STANDARD
BEGIN:DAYLIGHT
TZNAME:PDT
DTSTART:20200308T020000
TZOFFSETFROM:-0800
TZOFFSETTO:-0700
RDATE:20210314T020000
END:DAYLIGHT
END:VTIMEZONE
BEGIN:VEVENT
UID:9ddc6a9d-e92f-4b27-a082-dd171e6e6a28
DTSTAMP:20260423T221354Z
DESCRIPTION:<b>Understanding and Responding to Children with Emotional and 
 Behavioral Challenges Using a Positive\, Trauma-informed\, Strength-Based 
 Approach and Creating a Positive\, Strength-Based Culture for Children in 
 Care.</b>\n\nStrength-based practice is an emerging approach to guiding ch
 ildren\, in particular\, those with emotional and behavioral challenges\, 
 that is exceptionally positive and inspiring. Its focus is on strength-bui
 lding rather than flaw-fixing. It begins with the belief that every young 
 person has or can develop strengths and utilize past successes to mitigate
  problem behavior and enhance academic and social functioning. \n\nThis pr
 esentation will highlight many of the key principles and techniques of thi
 s transforming modality. Areas covered include: \n\n- What is strength-bas
 ed practice?\n- The power of a positive attitude and culture.\n- The effec
 ts of trauma and positive emotions on the brain\n- Changing negative minds
 ets and the deleterious effects of pejorative labeling\n- Strength-based c
 ommunication principles and techniques – including re-framing\, using solu
 tion-focused questions\, positive predicting and inspirational metaphors\n
 - Self-esteem building and activities for at-risk children and youth\n- Ho
 w to help cognitively - inflexible students\n- The importance of being fam
 ily-friendly\n- Why\, how\, and when to use incentive plans\; the importan
 ce of controlling personal emotions (i.e. managing number one first)\nresp
 ectful\, relationship-based limit setting\n- A host of creative cognitive-
 behavioral strategies\n\n\n<b>About Charlie Appelstein</b>\nYouth care spe
 cialist Charlie Appelstein\, M.S.W.\, President of Appelstein Training Res
 ources\, LLC (ATR) provides expert strength-based training and consultatio
 n for individuals and groups who work with children and youth experiencing
  emotional and behavioral challenges.     \n\nDescribed as 'the best youth
  care trainer in America' by Robert Lieberman\, former president of the Am
 erican Association of Children's Residential Centers\, Charlie has devoted
  his entire adult career to helping children and youth struggling with emo
 tional and behavioral challenges and those who guide them. An engaging\, i
 nformative\, and humorous speaker\, Charlie is the author of three critica
 lly acclaimed books on youth care and the creator of two innovative CDs th
 at help kids and parents make better choices and lead happier lives. Charl
 ie's strength-based approach delivers a message of hope and possibility to
  our most vulnerable youth and those who shape and influence their lives.
DTSTART;TZID=America/Los_Angeles:20200801T100000
DTEND;TZID=America/Los_Angeles:20200801T130000
LOCATION:Online Webinar
SUMMARY:No Such Thing As a Bad Kid!
END:VEVENT
END:VCALENDAR
