BEGIN:VCALENDAR
VERSION:2.0
PRODID:-//calparents.org//NONSGML kigkonsult.se iCalcreator 2.30.10//
CALSCALE:GREGORIAN
METHOD:PUBLISH
UID:c9593ef7-32ce-4892-b3b5-7072a4e50526
X-WR-CALDESC:<b>Capacitación De La Familia De Recursos:</b> todas las clase
 s son gratis\n\n<b>Módulo 6:</b> dolor y pérdida\, transiciones\, trauma v
 icario y resilienci.\n\n<b>Al registrarse\, utilice la información de cont
 acto única de cada participante. Esta información se utiliza para verifica
 r la asistencia de cada inscripto.</b>
X-WR-RELCALID:fb45c90b87527c064c9383198da4c135
X-WR-TIMEZONE:America/Los_Angeles
BEGIN:VTIMEZONE
TZID:America/Los_Angeles
BEGIN:STANDARD
TZNAME:PST
DTSTART:20191103T020000
TZOFFSETFROM:-0700
TZOFFSETTO:-0800
RDATE:20201101T020000
RDATE:20211107T020000
END:STANDARD
BEGIN:DAYLIGHT
TZNAME:PDT
DTSTART:20200308T020000
TZOFFSETFROM:-0800
TZOFFSETTO:-0700
RDATE:20210314T020000
END:DAYLIGHT
END:VTIMEZONE
BEGIN:VEVENT
UID:dd229be1-83a9-46d2-9a4f-91a30696ac1c
DTSTAMP:20260423T233449Z
DESCRIPTION:<b>Capacitación De La Familia De Recursos:</b> todas las clases
  son gratis\n\n<b>Módulo 6:</b> dolor y pérdida\, transiciones\, trauma vi
 cario y resilienci.\n\n<b>Al registrarse\, utilice la información de conta
 cto única de cada participante. Esta información se utiliza para verificar
  la asistencia de cada inscripto.</b>
DTSTART;TZID=America/Los_Angeles:20200722T160000
DTEND;TZID=America/Los_Angeles:20200722T190000
LOCATION:Entrenamiento virtual
SUMMARY:Módulo 6 En Línea
END:VEVENT
END:VCALENDAR
