BEGIN:VCALENDAR
VERSION:2.0
PRODID:-//calparents.org//NONSGML kigkonsult.se iCalcreator 2.30.10//
CALSCALE:GREGORIAN
METHOD:PUBLISH
UID:87056fdd-8dde-49b5-b31c-8dc3ca6baa19
X-WR-CALDESC:<b>Module 6 Course Objectives:</b> grief and loss\, transition
 s\, vicarious trauma\, and resiliency.\n\n<b>When registering\, please use
  the unique contact information for each participant. This information is 
 used to verify each registrants attendance.</b>
X-WR-RELCALID:536d255ebb9347520edc1f368f671df0
X-WR-TIMEZONE:America/Los_Angeles
BEGIN:VTIMEZONE
TZID:America/Los_Angeles
BEGIN:STANDARD
TZNAME:PST
DTSTART:20191103T020000
TZOFFSETFROM:-0700
TZOFFSETTO:-0800
RDATE:20201101T020000
RDATE:20211107T020000
END:STANDARD
BEGIN:DAYLIGHT
TZNAME:PDT
DTSTART:20200308T020000
TZOFFSETFROM:-0800
TZOFFSETTO:-0700
RDATE:20210314T020000
END:DAYLIGHT
END:VTIMEZONE
BEGIN:VEVENT
UID:29063287-56fa-4872-9e49-17ecded56529
DTSTAMP:20260423T233315Z
DESCRIPTION:<b>Module 6 Course Objectives:</b> grief and loss\, transitions
 \, vicarious trauma\, and resiliency.\n\n<b>When registering\, please use 
 the unique contact information for each participant. This information is u
 sed to verify each registrants attendance.</b>
DTSTART;TZID=America/Los_Angeles:20200718T100000
DTEND;TZID=America/Los_Angeles:20200718T120000
LOCATION:Virtual Training
SUMMARY:Module 6 Online
END:VEVENT
END:VCALENDAR
