BEGIN:VCALENDAR
VERSION:2.0
PRODID:-//calparents.org//NONSGML kigkonsult.se iCalcreator 2.30.10//
CALSCALE:GREGORIAN
METHOD:PUBLISH
UID:abfe3ab7-1e22-41d0-8753-0d644b8b2602
X-WR-CALDESC:<b>Capacitación De La Familia De Recursos:</b> todas las clase
 s son gratis\n\n<b>Módulo 3:</b> dominios de desarrollo\, SOGIE\, Naturale
 sa contra Nutrir/Crianza\, apego y las necesidades de los niños y jóvenes 
 en hogares de recurso.\n\n<b>Al registrarse\, utilice la información de co
 ntacto única de cada participante. Esta información se utiliza para verifi
 car la asistencia de cada inscripto.</b>
X-WR-RELCALID:2f1b9df3787b87364e9e7e83279cc633
X-WR-TIMEZONE:America/Los_Angeles
BEGIN:VTIMEZONE
TZID:America/Los_Angeles
BEGIN:STANDARD
TZNAME:PST
DTSTART:20191103T020000
TZOFFSETFROM:-0700
TZOFFSETTO:-0800
RDATE:20201101T020000
RDATE:20211107T020000
END:STANDARD
BEGIN:DAYLIGHT
TZNAME:PDT
DTSTART:20200308T020000
TZOFFSETFROM:-0800
TZOFFSETTO:-0700
RDATE:20210314T020000
END:DAYLIGHT
END:VTIMEZONE
BEGIN:VEVENT
UID:d8fda27e-0b56-4cc1-8608-9344382511af
DTSTAMP:20260423T233505Z
DESCRIPTION:<b>Capacitación De La Familia De Recursos:</b> todas las clases
  son gratis\n\n<b>Módulo 3:</b> dominios de desarrollo\, SOGIE\, Naturales
 a contra Nutrir/Crianza\, apego y las necesidades de los niños y jóvenes e
 n hogares de recurso.\n\n<b>Al registrarse\, utilice la información de con
 tacto única de cada participante. Esta información se utiliza para verific
 ar la asistencia de cada inscripto.</b>
DTSTART;TZID=America/Los_Angeles:20200713T160000
DTEND;TZID=America/Los_Angeles:20200713T190000
LOCATION:Entrenamiento virtual
SUMMARY:Módulo 3 En Línea
END:VEVENT
END:VCALENDAR
