BEGIN:VCALENDAR
VERSION:2.0
PRODID:-//calparents.org//NONSGML kigkonsult.se iCalcreator 2.30.10//
CALSCALE:GREGORIAN
METHOD:PUBLISH
UID:526390fa-6c6b-442c-9637-c8ae2e07c5f3
X-WR-CALDESC:<b>Module 5 Course Objectives:</b> types of childhood trauma\,
  traumatic stress response cycle\, understanding trauma triggers\, and the
  impact of trauma exposure.\n\n<b>When registering\, please use the unique
  contact information for each participant. This information is used to ver
 ify each registrants attendance.</b>
X-WR-RELCALID:e80dd36d0d8f94dc1d0c8e79b9520085
X-WR-TIMEZONE:America/Los_Angeles
BEGIN:VTIMEZONE
TZID:America/Los_Angeles
BEGIN:STANDARD
TZNAME:PST
DTSTART:20191103T020000
TZOFFSETFROM:-0700
TZOFFSETTO:-0800
RDATE:20201101T020000
RDATE:20211107T020000
END:STANDARD
BEGIN:DAYLIGHT
TZNAME:PDT
DTSTART:20200308T020000
TZOFFSETFROM:-0800
TZOFFSETTO:-0700
RDATE:20210314T020000
END:DAYLIGHT
END:VTIMEZONE
BEGIN:VEVENT
UID:1d1f26f3-a254-49a7-b9e9-9a574100a5c6
DTSTAMP:20260423T233250Z
DESCRIPTION:<b>Module 5 Course Objectives:</b> types of childhood trauma\, 
 traumatic stress response cycle\, understanding trauma triggers\, and the 
 impact of trauma exposure.\n\n<b>When registering\, please use the unique 
 contact information for each participant. This information is used to veri
 fy each registrants attendance.</b>
DTSTART;TZID=America/Los_Angeles:20200711T100000
DTEND;TZID=America/Los_Angeles:20200711T120000
LOCATION:Virtual Training
SUMMARY:Module 5 Online
END:VEVENT
END:VCALENDAR
