BEGIN:VCALENDAR
VERSION:2.0
PRODID:-//calparents.org//NONSGML kigkonsult.se iCalcreator 2.30.10//
CALSCALE:GREGORIAN
METHOD:PUBLISH
UID:adf7c5b0-2ed4-48f1-aab8-ed2b731c2905
X-WR-CALDESC:<b>Capacitación De La Familia De Recursos:</b> todas las clase
 s son gratis\n\n<b>Módulo 5:</b> tipos de trauma infantil\, ciclo de respu
 esta al estrés traumático\, comprensión de desencadenantes del trauma y el
  impacto de la exposición al trauma.\n\n<b>Al registrarse\, utilice la inf
 ormación de contacto única de cada participante. Esta información se utili
 za para verificar la asistencia de cada inscripto.</b>
X-WR-RELCALID:b9c4b9803afd6c4560eb021637764def
X-WR-TIMEZONE:America/Los_Angeles
BEGIN:VTIMEZONE
TZID:America/Los_Angeles
BEGIN:STANDARD
TZNAME:PST
DTSTART:20191103T020000
TZOFFSETFROM:-0700
TZOFFSETTO:-0800
RDATE:20201101T020000
RDATE:20211107T020000
END:STANDARD
BEGIN:DAYLIGHT
TZNAME:PDT
DTSTART:20200308T020000
TZOFFSETFROM:-0800
TZOFFSETTO:-0700
RDATE:20210314T020000
END:DAYLIGHT
END:VTIMEZONE
BEGIN:VEVENT
UID:43e2d410-a668-490b-a0e5-55a32c6537bc
DTSTAMP:20260424T021515Z
DESCRIPTION:<b>Capacitación De La Familia De Recursos:</b> todas las clases
  son gratis\n\n<b>Módulo 5:</b> tipos de trauma infantil\, ciclo de respue
 sta al estrés traumático\, comprensión de desencadenantes del trauma y el 
 impacto de la exposición al trauma.\n\n<b>Al registrarse\, utilice la info
 rmación de contacto única de cada participante. Esta información se utiliz
 a para verificar la asistencia de cada inscripto.</b>
DTSTART;TZID=America/Los_Angeles:20200518T170000
DTEND;TZID=America/Los_Angeles:20200518T200000
LOCATION:Entrenamiento virtual
SUMMARY:Módulo 5 En Línea
END:VEVENT
END:VCALENDAR
