BEGIN:VCALENDAR
VERSION:2.0
PRODID:-//calparents.org//NONSGML kigkonsult.se iCalcreator 2.30.10//
CALSCALE:GREGORIAN
METHOD:PUBLISH
UID:8c6e7815-cbd5-429a-9331-f7ef13e106d7
X-WR-CALDESC:<b>Module 4 Course Objectives:</b> supervised visitations\, bo
 undaries\, punishment vs discipline\, managing emotional and behavioral ne
 eds\, and psychotropic medication.\n\n<b>When registering\, please use the
  unique contact information for each participant. This information is used
  to verify each registrants attendance.</b>
X-WR-RELCALID:1c8ba0c6a74d1ffac37df5e4cb38fd32
X-WR-TIMEZONE:America/Los_Angeles
BEGIN:VTIMEZONE
TZID:America/Los_Angeles
BEGIN:STANDARD
TZNAME:PST
DTSTART:20191103T020000
TZOFFSETFROM:-0700
TZOFFSETTO:-0800
RDATE:20201101T020000
RDATE:20211107T020000
END:STANDARD
BEGIN:DAYLIGHT
TZNAME:PDT
DTSTART:20200308T020000
TZOFFSETFROM:-0800
TZOFFSETTO:-0700
RDATE:20210314T020000
END:DAYLIGHT
END:VTIMEZONE
BEGIN:VEVENT
UID:9cc16939-e692-4789-8f69-4ae1b3a21dc1
DTSTAMP:20260424T020844Z
DESCRIPTION:<b>Module 4 Course Objectives:</b> supervised visitations\, bou
 ndaries\, punishment vs discipline\, managing emotional and behavioral nee
 ds\, and psychotropic medication.\n\n<b>When registering\, please use the 
 unique contact information for each participant. This information is used 
 to verify each registrants attendance.</b>
DTSTART;TZID=America/Los_Angeles:20200514T170000
DTEND;TZID=America/Los_Angeles:20200514T200000
LOCATION:Virtual Training
SUMMARY:Module 4 Online
END:VEVENT
END:VCALENDAR
