BEGIN:VCALENDAR
VERSION:2.0
PRODID:-//calparents.org//NONSGML kigkonsult.se iCalcreator 2.30.10//
CALSCALE:GREGORIAN
METHOD:PUBLISH
UID:f58f6608-4880-41c5-95b2-2f60363bcaa6
X-WR-CALDESC:<b>Module 2 Course Objectives:</b> the members of the professi
 onal team\, cultural humility\, personal rights\, prudent parent standard\
 , and confidentiality.\n\n<b>When registering\, please use the unique cont
 act information for each participant. This information is used to verify e
 ach registrants attendance.</b>
X-WR-RELCALID:70c76f93c922c329db7d32c7429fee96
X-WR-TIMEZONE:America/Los_Angeles
BEGIN:VTIMEZONE
TZID:America/Los_Angeles
BEGIN:STANDARD
TZNAME:PST
DTSTART:20191103T020000
TZOFFSETFROM:-0700
TZOFFSETTO:-0800
RDATE:20201101T020000
END:STANDARD
BEGIN:DAYLIGHT
TZNAME:PDT
DTSTART:20200308T020000
TZOFFSETFROM:-0800
TZOFFSETTO:-0700
RDATE:20210314T020000
END:DAYLIGHT
END:VTIMEZONE
BEGIN:VEVENT
UID:6d3bb6de-933f-4bfd-8523-280dd34b85c7
DTSTAMP:20260424T021112Z
DESCRIPTION:<b>Module 2 Course Objectives:</b> the members of the professio
 nal team\, cultural humility\, personal rights\, prudent parent standard\,
  and confidentiality.\n\n<b>When registering\, please use the unique conta
 ct information for each participant. This information is used to verify ea
 ch registrants attendance.</b>
DTSTART;TZID=America/Los_Angeles:20200507T170000
DTEND;TZID=America/Los_Angeles:20200507T200000
LOCATION:Virtual Training
SUMMARY:Module 2 Online
END:VEVENT
END:VCALENDAR
