BEGIN:VCALENDAR
VERSION:2.0
PRODID:-//calparents.org//NONSGML kigkonsult.se iCalcreator 2.30.10//
CALSCALE:GREGORIAN
METHOD:PUBLISH
UID:d6f1abed-ec75-4575-aa7b-55abffc9d046
X-WR-CALDESC:<b>Capacitación De La Familia De Recursos:</b> todas las clase
 s son gratis\n\n<b>Módulo 2:</b> los miembros del equipo profesional\, la 
 humildad cultural\, los derechos personales\, el estándar de padres pruden
 te\, la confidencialidad y las visitas.\n\n<b>Al registrarse\, utilice la 
 información de contacto única de cada participante. Esta información se ut
 iliza para verificar la asistencia de cada inscripto.</b>
X-WR-RELCALID:833f6ae28bf9b8178427adfc164b1d05
X-WR-TIMEZONE:America/Los_Angeles
BEGIN:VTIMEZONE
TZID:America/Los_Angeles
BEGIN:STANDARD
TZNAME:PST
DTSTART:20191103T020000
TZOFFSETFROM:-0700
TZOFFSETTO:-0800
RDATE:20201101T020000
END:STANDARD
BEGIN:DAYLIGHT
TZNAME:PDT
DTSTART:20200308T020000
TZOFFSETFROM:-0800
TZOFFSETTO:-0700
RDATE:20210314T020000
END:DAYLIGHT
END:VTIMEZONE
BEGIN:VEVENT
UID:28b53e35-71d0-4d5b-8128-37cc795fcea5
DTSTAMP:20260424T032248Z
DESCRIPTION:<b>Capacitación De La Familia De Recursos:</b> todas las clases
  son gratis\n\n<b>Módulo 2:</b> los miembros del equipo profesional\, la h
 umildad cultural\, los derechos personales\, el estándar de padres prudent
 e\, la confidencialidad y las visitas.\n\n<b>Al registrarse\, utilice la i
 nformación de contacto única de cada participante. Esta información se uti
 liza para verificar la asistencia de cada inscripto.</b>
DTSTART;TZID=America/Los_Angeles:20200506T170000
DTEND;TZID=America/Los_Angeles:20200506T200000
LOCATION:Entrenamiento virtual
SUMMARY:Módulo 2 En Línea
END:VEVENT
END:VCALENDAR
