BEGIN:VCALENDAR
VERSION:2.0
PRODID:-//calparents.org//NONSGML kigkonsult.se iCalcreator 2.30.10//
CALSCALE:GREGORIAN
METHOD:PUBLISH
UID:95155047-35d6-40e7-a554-a00d156ba465
X-WR-CALDESC:<b>Module 2 Course Objectives:</b> the members of the professi
 onal team\, cultural humility\, personal rights\, prudent parent standard\
 , confidentiality\, and visitation.\n\n<b>When registering\, please use th
 e unique contact information for each participant. This information is use
 d to verify each registrants attendance.</b>
X-WR-RELCALID:04a473f7d6cbab60edbfb48e32e714c5
X-WR-TIMEZONE:America/Los_Angeles
BEGIN:VTIMEZONE
TZID:America/Los_Angeles
BEGIN:STANDARD
TZNAME:PST
DTSTART:20191103T020000
TZOFFSETFROM:-0700
TZOFFSETTO:-0800
RDATE:20201101T020000
END:STANDARD
BEGIN:DAYLIGHT
TZNAME:PDT
DTSTART:20200308T020000
TZOFFSETFROM:-0800
TZOFFSETTO:-0700
RDATE:20210314T020000
END:DAYLIGHT
END:VTIMEZONE
BEGIN:VEVENT
UID:79c12cf6-c783-4b17-8e2b-4273dfac2098
DTSTAMP:20260424T032922Z
DESCRIPTION:<b>Module 2 Course Objectives:</b> the members of the professio
 nal team\, cultural humility\, personal rights\, prudent parent standard\,
  confidentiality\, and visitation.\n\n<b>When registering\, please use the
  unique contact information for each participant. This information is used
  to verify each registrants attendance.</b>
DTSTART;TZID=America/Los_Angeles:20200409T170000
DTEND;TZID=America/Los_Angeles:20200409T200000
LOCATION:Virtual Training
SUMMARY:Module 2 Online
END:VEVENT
END:VCALENDAR
