BEGIN:VCALENDAR
VERSION:2.0
PRODID:-//calparents.org//NONSGML kigkonsult.se iCalcreator 2.30.10//
CALSCALE:GREGORIAN
METHOD:PUBLISH
UID:bb9ecfbc-4912-4e30-826f-f84f72ccffc2
X-WR-CALDESC:Unete a nuestro grupo de apoyo donde aprenderemos unas de otra
 s y crearemos lazos de amistad\, aprenderemos herramientas de empoderamien
 to y crecimiento personal para desarrollarnos mejor como parte de nuestra 
 comunidad.
X-WR-RELCALID:098ff9e5191c389657108f980ede89d3
X-WR-TIMEZONE:America/Los_Angeles
BEGIN:VTIMEZONE
TZID:America/Los_Angeles
BEGIN:STANDARD
TZNAME:PST
DTSTART:20261101T020000
TZOFFSETFROM:-0700
TZOFFSETTO:-0800
RDATE:20271107T020000
END:STANDARD
BEGIN:DAYLIGHT
TZNAME:PDT
DTSTART:20260308T020000
TZOFFSETFROM:-0800
TZOFFSETTO:-0700
RDATE:20270314T020000
RDATE:20280312T020000
END:DAYLIGHT
END:VTIMEZONE
BEGIN:VEVENT
UID:e48bd492-08a6-45fc-bac7-0b1f4705f2a3
DTSTAMP:20260423T042756Z
DESCRIPTION:Unete a nuestro grupo de apoyo donde aprenderemos unas de otras
  y crearemos lazos de amistad\, aprenderemos herramientas de empoderamient
 o y crecimiento personal para desarrollarnos mejor como parte de nuestra c
 omunidad.
DTSTART;TZID=America/Los_Angeles:20261110T083000
DTEND;TZID=America/Los_Angeles:20261110T103000
LOCATION:John Reed Elementary School\,   390 Arlen Dr. Portable 3\, Rohnert
  Park\, CA 94928 US
SUMMARY:Cafecito para mama
END:VEVENT
END:VCALENDAR
