BEGIN:VCALENDAR
VERSION:2.0
PRODID:-//calparents.org//NONSGML kigkonsult.se iCalcreator 2.30.10//
CALSCALE:GREGORIAN
METHOD:PUBLISH
UID:91c2ff67-aedb-42b1-a1d1-415aa3721c75
X-WR-CALDESC:Unete a nuestro grupo de apoyo donde aprenderemos unas de otra
 s y crearemos lazos de amistad\, aprenderemos herramientas de empoderamien
 to y crecimiento personal para desarrollarnos mejor como parte de nuestra 
 comunidad.
X-WR-RELCALID:156b9e4d4bbb6e6d6d2ec9ab80eac9ca
X-WR-TIMEZONE:America/Los_Angeles
BEGIN:VTIMEZONE
TZID:America/Los_Angeles
BEGIN:STANDARD
TZNAME:PST
DTSTART:20251102T020000
TZOFFSETFROM:-0700
TZOFFSETTO:-0800
RDATE:20261101T020000
RDATE:20271107T020000
END:STANDARD
BEGIN:DAYLIGHT
TZNAME:PDT
DTSTART:20260308T020000
TZOFFSETFROM:-0800
TZOFFSETTO:-0700
RDATE:20270314T020000
END:DAYLIGHT
END:VTIMEZONE
BEGIN:VEVENT
UID:663e2ffb-4e2d-40a0-9981-6a8793166cbe
DTSTAMP:20260423T000424Z
DESCRIPTION:Unete a nuestro grupo de apoyo donde aprenderemos unas de otras
  y crearemos lazos de amistad\, aprenderemos herramientas de empoderamient
 o y crecimiento personal para desarrollarnos mejor como parte de nuestra c
 omunidad.
DTSTART;TZID=America/Los_Angeles:20260818T083000
DTEND;TZID=America/Los_Angeles:20260818T103000
LOCATION:John Reed Elementary School\,   390 Arlen Dr. Portable 3\, Rohnert
  Park\, CA 94928 US
SUMMARY:Cafecito para mama
END:VEVENT
END:VCALENDAR
