BEGIN:VCALENDAR
VERSION:2.0
PRODID:-//calparents.org//NONSGML kigkonsult.se iCalcreator 2.30.10//
CALSCALE:GREGORIAN
METHOD:PUBLISH
UID:080c46ed-02d7-49c2-96a5-dcfaf2e4e9eb
X-WR-CALDESC:Unete a nuestro grupo de apoyo donde aprenderemos unas de otra
 s y crearemos lazos de amistad\, aprenderemos herramientas de empoderamien
 to y crecimiento personal para desarrollarnos mejor como parte de nuestra 
 comunidad.
X-WR-RELCALID:a9c5b0521b18cbdeb11bfd099f5641ba
X-WR-TIMEZONE:America/Los_Angeles
BEGIN:VTIMEZONE
TZID:America/Los_Angeles
BEGIN:STANDARD
TZNAME:PST
DTSTART:20251102T020000
TZOFFSETFROM:-0700
TZOFFSETTO:-0800
RDATE:20261101T020000
RDATE:20271107T020000
END:STANDARD
BEGIN:DAYLIGHT
TZNAME:PDT
DTSTART:20260308T020000
TZOFFSETFROM:-0800
TZOFFSETTO:-0700
RDATE:20270314T020000
END:DAYLIGHT
END:VTIMEZONE
BEGIN:VEVENT
UID:e76f7454-2111-4005-9429-d3b186a305db
DTSTAMP:20260422T223050Z
DESCRIPTION:Unete a nuestro grupo de apoyo donde aprenderemos unas de otras
  y crearemos lazos de amistad\, aprenderemos herramientas de empoderamient
 o y crecimiento personal para desarrollarnos mejor como parte de nuestra c
 omunidad.
DTSTART;TZID=America/Los_Angeles:20260721T083000
DTEND;TZID=America/Los_Angeles:20260721T103000
LOCATION:John Reed Elementary School\,   390 Arlen Dr. Portable 3\, Rohnert
  Park\, CA 94928 US
SUMMARY:Cafecito para mama
END:VEVENT
END:VCALENDAR
