BEGIN:VCALENDAR
VERSION:2.0
PRODID:-//calparents.org//NONSGML kigkonsult.se iCalcreator 2.30.10//
CALSCALE:GREGORIAN
METHOD:PUBLISH
UID:48df42fa-6ffb-449a-8d7a-4884396ee3d9
X-WR-CALDESC:Unete a nuestro grupo de apoyo donde aprenderemos unas de otra
 s y crearemos lazos de amistad\, aprenderemos herramientas de  empoderamie
 nto  y crecimiento personal para desarrollarnos mejor como parte de nuestr
 a  comunidad.
X-WR-RELCALID:258353ee8b047966d0412150297aa6e4
X-WR-TIMEZONE:America/Los_Angeles
BEGIN:VTIMEZONE
TZID:America/Los_Angeles
BEGIN:STANDARD
TZNAME:PST
DTSTART:20251102T020000
TZOFFSETFROM:-0700
TZOFFSETTO:-0800
RDATE:20261101T020000
RDATE:20271107T020000
END:STANDARD
BEGIN:DAYLIGHT
TZNAME:PDT
DTSTART:20260308T020000
TZOFFSETFROM:-0800
TZOFFSETTO:-0700
RDATE:20270314T020000
END:DAYLIGHT
END:VTIMEZONE
BEGIN:VEVENT
UID:420d13cc-d286-4d9f-9c2b-f7f04ecd5ae1
DTSTAMP:20260422T202615Z
DESCRIPTION:Unete a nuestro grupo de apoyo donde aprenderemos unas de otras
  y crearemos lazos de amistad\, aprenderemos herramientas de  empoderamien
 to  y crecimiento personal para desarrollarnos mejor como parte de nuestra
   comunidad.
DTSTART;TZID=America/Los_Angeles:20260623T083000
DTEND;TZID=America/Los_Angeles:20260623T103000
LOCATION:John Reed Elementary School\,   390 Arlen Dr. Portable 3\, Rohnert
  Park\, CA 94928 US
SUMMARY:Cafecito para mama
END:VEVENT
END:VCALENDAR
