BEGIN:VCALENDAR
VERSION:2.0
PRODID:-//calparents.org//NONSGML kigkonsult.se iCalcreator 2.30.10//
CALSCALE:GREGORIAN
METHOD:PUBLISH
UID:634ef02f-48fa-42a9-9ea9-d715ed2ebfd1
X-WR-CALDESC:Unete a nuestro grupo de apoyo donde aprenderemos unas de otra
 s y crearemos lazos de amistad\, aprenderemos herramientas de  empoderamie
 nto  y crecimiento personal para desarrollarnos mejor como parte de nuestr
 a  comunidad.
X-WR-RELCALID:d856db877a81e53350a527331e6bff9b
X-WR-TIMEZONE:America/Los_Angeles
BEGIN:VTIMEZONE
TZID:America/Los_Angeles
BEGIN:STANDARD
TZNAME:PST
DTSTART:20251102T020000
TZOFFSETFROM:-0700
TZOFFSETTO:-0800
RDATE:20261101T020000
RDATE:20271107T020000
END:STANDARD
BEGIN:DAYLIGHT
TZNAME:PDT
DTSTART:20260308T020000
TZOFFSETFROM:-0800
TZOFFSETTO:-0700
RDATE:20270314T020000
END:DAYLIGHT
END:VTIMEZONE
BEGIN:VEVENT
UID:b4350ebd-9e2c-45b3-8677-6010a7418b3f
DTSTAMP:20260422T185113Z
DESCRIPTION:Unete a nuestro grupo de apoyo donde aprenderemos unas de otras
  y crearemos lazos de amistad\, aprenderemos herramientas de  empoderamien
 to  y crecimiento personal para desarrollarnos mejor como parte de nuestra
   comunidad.
DTSTART;TZID=America/Los_Angeles:20260512T083000
DTEND;TZID=America/Los_Angeles:20260512T103000
LOCATION:John Reed Elementary School\,   390 Arlen Dr. Portable 3\, Rohnert
  Park\, CA 94928 US
SUMMARY:Cafecito para mama
END:VEVENT
END:VCALENDAR
