BEGIN:VCALENDAR
VERSION:2.0
PRODID:-//calparents.org//NONSGML kigkonsult.se iCalcreator 2.30.10//
CALSCALE:GREGORIAN
METHOD:PUBLISH
UID:c5548f22-cc67-4d07-ab6a-7329c00235b7
X-WR-CALDESC:Dr Shende Chequeos fisicos\, vacunas\, y consultas pediatricas
  y de adultos.\nDr. Shende offers physical exams\, vaccinations\, and pedi
 atric and adult consultations.\n\n
X-WR-RELCALID:72fe9db294306959569d325ed94bf0f4
X-WR-TIMEZONE:America/Los_Angeles
BEGIN:VTIMEZONE
TZID:America/Los_Angeles
BEGIN:STANDARD
TZNAME:PST
DTSTART:20251102T020000
TZOFFSETFROM:-0700
TZOFFSETTO:-0800
RDATE:20261101T020000
END:STANDARD
BEGIN:DAYLIGHT
TZNAME:PDT
DTSTART:20260308T020000
TZOFFSETFROM:-0800
TZOFFSETTO:-0700
RDATE:20270314T020000
END:DAYLIGHT
END:VTIMEZONE
BEGIN:VEVENT
UID:57375e1c-340f-4fa9-b6a9-8f98daa76577
DTSTAMP:20260424T100742Z
DESCRIPTION:Dr Shende Chequeos fisicos\, vacunas\, y consultas pediatricas 
 y de adultos.\nDr. Shende offers physical exams\, vaccinations\, and pedia
 tric and adult consultations.\n\n
DTSTART;TZID=America/Los_Angeles:20260423T083000
DTEND;TZID=America/Los_Angeles:20260423T163000
LOCATION:John Reed Elementary School\,   390 Arlen Dr. Portable 3\, Rohnert
  Park\, CA 94928 US
SUMMARY:Mobile Health Clinic/Clinica de Salud Movil
END:VEVENT
END:VCALENDAR
