BEGIN:VCALENDAR
VERSION:2.0
PRODID:-//calparents.org//NONSGML kigkonsult.se iCalcreator 2.30.10//
CALSCALE:GREGORIAN
METHOD:PUBLISH
UID:be0fd732-df97-4530-949f-37ab90565632
X-WR-CALDESC:Dr Mario Chequeos fisicos\, vacunas\,y consultas para adultos.
 \nDr. Mario offers physical exams\, vaccinations\, and adult consultations
 .
X-WR-RELCALID:265000845b9b43a2cd493ee1d1aa2cf3
X-WR-TIMEZONE:America/Los_Angeles
BEGIN:VTIMEZONE
TZID:America/Los_Angeles
BEGIN:STANDARD
TZNAME:PST
DTSTART:20251102T020000
TZOFFSETFROM:-0700
TZOFFSETTO:-0800
RDATE:20261101T020000
END:STANDARD
BEGIN:DAYLIGHT
TZNAME:PDT
DTSTART:20260308T020000
TZOFFSETFROM:-0800
TZOFFSETTO:-0700
RDATE:20270314T020000
END:DAYLIGHT
END:VTIMEZONE
BEGIN:VEVENT
UID:9c7978ec-d3d8-402d-9245-959451b501df
DTSTAMP:20260422T164708Z
DESCRIPTION:Dr Mario Chequeos fisicos\, vacunas\,y consultas para adultos.
 \nDr. Mario offers physical exams\, vaccinations\, and adult consultations
 .
DTSTART;TZID=America/Los_Angeles:20260416T110000
DTEND;TZID=America/Los_Angeles:20260416T120000
LOCATION:John Reed Elementary School\,   390 Arlen Dr. Portable 3\, Rohnert
  Park\, CA 94928 US
SUMMARY:Mobile Health Clinic/Clinica de Salud Movil
END:VEVENT
END:VCALENDAR
