BEGIN:VCALENDAR
VERSION:2.0
PRODID:-//calparents.org//NONSGML kigkonsult.se iCalcreator 2.30.10//
CALSCALE:GREGORIAN
METHOD:PUBLISH
UID:e9adbbac-98fa-4a66-9574-57c5eb2b2fdd
X-WR-CALDESC:Every other Friday of every week we have fresh fruits\, vegeta
 bles\, and/or produce for our families.\nUn Viernes si y uno no tenemos fr
 utas\, verduras y/ o vegetales frescos para nuestras familias.
X-WR-RELCALID:794b3048994a16908eb4c48f235e8556
X-WR-TIMEZONE:America/Los_Angeles
BEGIN:VTIMEZONE
TZID:America/Los_Angeles
BEGIN:STANDARD
TZNAME:PST
DTSTART:20251102T020000
TZOFFSETFROM:-0700
TZOFFSETTO:-0800
RDATE:20261101T020000
END:STANDARD
BEGIN:DAYLIGHT
TZNAME:PDT
DTSTART:20260308T020000
TZOFFSETFROM:-0800
TZOFFSETTO:-0700
RDATE:20270314T020000
END:DAYLIGHT
END:VTIMEZONE
BEGIN:VEVENT
UID:e0a22db3-1982-4d43-b647-ad4b5e1c90ea
DTSTAMP:20260422T163734Z
DESCRIPTION:Every other Friday of every week we have fresh fruits\, vegetab
 les\, and/or produce for our families.\nUn Viernes si y uno no tenemos fru
 tas\, verduras y/ o vegetales frescos para nuestras familias.
DTSTART;TZID=America/Los_Angeles:20260410T123000
DTEND;TZID=America/Los_Angeles:20260410T160000
LOCATION:John Reed Elementary School\,   390 Arlen Dr. Portable 3\, Rohnert
  Park\, CA 94928 US
SUMMARY:Banco de Comida de John Reed/ John Reed Food Pantry
END:VEVENT
END:VCALENDAR
